BEGIN:VCALENDAR
VERSION:2.0
PRODID:-//Heartland Anglers - ECPv6.8.3//NONSGML v1.0//EN
CALSCALE:GREGORIAN
METHOD:PUBLISH
X-ORIGINAL-URL:https://heartlandanglers.com
X-WR-CALDESC:Events for Heartland Anglers
REFRESH-INTERVAL;VALUE=DURATION:PT1H
X-Robots-Tag:noindex
X-PUBLISHED-TTL:PT1H
BEGIN:VTIMEZONE
TZID:UTC
BEGIN:STANDARD
TZOFFSETFROM:+0000
TZOFFSETTO:+0000
TZNAME:UTC
DTSTART:20250101T000000
END:STANDARD
END:VTIMEZONE
BEGIN:VEVENT
DTSTART;TZID=UTC:20250621T070000
DTEND;TZID=UTC:20260328T150000
DTSTAMP:20260424T001208
CREATED:20260112T141527Z
LAST-MODIFIED:20260112T141527Z
UID:3371-1750489200-1774710000@heartlandanglers.com
SUMMARY:Sat\, March 28
DESCRIPTION:Kentucky Lake (Big Bear public ramp Gilbertsville)\nEntry $50.00\nLunker $10.00\nMembership $35.00
URL:https://heartlandanglers.com/event/sat-march-28/
LOCATION:Kentucky Lake\, Kentucky Lake\, kentucky\, Big Bear Public Boat Ramp (Gilbertsville)
CATEGORIES:kentucky,kentucky division 2
ORGANIZER;CN="James Cross":MAILTO:j.cross6957@yahoo.com
END:VEVENT
BEGIN:VEVENT
DTSTART;TZID=UTC:20260322T070000
DTEND;TZID=UTC:20260322T150000
DTSTAMP:20260424T001208
CREATED:20251124T164418Z
LAST-MODIFIED:20251124T164418Z
UID:3312-1774162800-1774191600@heartlandanglers.com
SUMMARY:Sun\, March 22
DESCRIPTION:NORMANDY  – BARTON SPRINGS \nMEMBERSHIP FEE WILL BE $35 PER PERSON \nENTRY FEE WILL BE $50.00 PER TEAM\nHEARTLAND ANGLERS MEMBERSHIP WILL BE $35.00 \nMUST FISH 4 OF THE ONE DIVISION or 6 IN ANY MULTIPLE DIVISIONS TO QUALIFY FOR THE  HARTLAND ANGLER CLASSIC FOR 2026 \nTim Wheelon \n931-205-4906
URL:https://heartlandanglers.com/event/sun-march-22/
LOCATION:Lake Hopper\, Lake Hopper\, tennessee
CATEGORIES:tennessee,tennessee division 03
END:VEVENT
BEGIN:VEVENT
DTSTART;TZID=UTC:20260322T070000
DTEND;TZID=UTC:20260322T150000
DTSTAMP:20260424T001208
CREATED:20260119T161756Z
LAST-MODIFIED:20260119T161812Z
UID:3390-1774162800-1774191600@heartlandanglers.com
SUMMARY:Sat\, March 22
DESCRIPTION:Lake Guntersville\nRamp: Waterfront \nMEMBERSHIP FEE WILL BE $35 PER PERSON \nENTRY FEE WILL BE $60.00 (90%) \nLunker: $20 (100%) \n$35 Membership fee \nGrant Williams\n256-348-5500
URL:https://heartlandanglers.com/event/sat-march-22-3/
LOCATION:Guntersville\, Guntersville\, alabama\, Waterfront
CATEGORIES:alabama,alabama division 3
END:VEVENT
END:VCALENDAR