BEGIN:VCALENDAR
VERSION:2.0
PRODID:-//Heartland Anglers - ECPv6.8.3//NONSGML v1.0//EN
CALSCALE:GREGORIAN
METHOD:PUBLISH
X-WR-CALNAME:Heartland Anglers
X-ORIGINAL-URL:https://heartlandanglers.com
X-WR-CALDESC:Events for Heartland Anglers
REFRESH-INTERVAL;VALUE=DURATION:PT1H
X-Robots-Tag:noindex
X-PUBLISHED-TTL:PT1H
BEGIN:VTIMEZONE
TZID:UTC
BEGIN:STANDARD
TZOFFSETFROM:+0000
TZOFFSETTO:+0000
TZNAME:UTC
DTSTART:20260101T000000
END:STANDARD
END:VTIMEZONE
BEGIN:VEVENT
DTSTART;TZID=UTC:20260516T070000
DTEND;TZID=UTC:20260516T153000
DTSTAMP:20260424T001037
CREATED:20260119T174157Z
LAST-MODIFIED:20260119T174157Z
UID:3434-1778914800-1778945400@heartlandanglers.com
SUMMARY:Sat\, May 16
DESCRIPTION:Douglas Lake Dandridge Ramp\nMini Classic\nShady Grove\nSafe Light – 3:30PM\nEntry Fee: $50.00 (90%)\nLunker: $10.00 (100%)\nMembership: $35.00 Per Person
URL:https://heartlandanglers.com/event/sat-may-16/
LOCATION:Douglas Lake\, Douglas Lake\, tennessee\, Dandridge Public Ramp
CATEGORIES:tennessee,tennessee division 29
END:VEVENT
END:VCALENDAR