BEGIN:VCALENDAR
VERSION:2.0
PRODID:-//Heartland Anglers - ECPv6.8.3//NONSGML v1.0//EN
CALSCALE:GREGORIAN
METHOD:PUBLISH
X-ORIGINAL-URL:https://heartlandanglers.com
X-WR-CALDESC:Events for Heartland Anglers
REFRESH-INTERVAL;VALUE=DURATION:PT1H
X-Robots-Tag:noindex
X-PUBLISHED-TTL:PT1H
BEGIN:VTIMEZONE
TZID:UTC
BEGIN:STANDARD
TZOFFSETFROM:+0000
TZOFFSETTO:+0000
TZNAME:UTC
DTSTART:20250101T000000
END:STANDARD
END:VTIMEZONE
BEGIN:VEVENT
DTSTART;TZID=UTC:20250607T070000
DTEND;TZID=UTC:20250607T150000
DTSTAMP:20260424T105839
CREATED:20250117T052124Z
LAST-MODIFIED:20250117T052124Z
UID:3010-1749279600-1749308400@heartlandanglers.com
SUMMARY:Sat\, June 07
DESCRIPTION:Wheeler / Elk River (Lee High)\nEntry Fee: $50 Per Team\, $10 Lunker\nPayouts: 90% of Entry Fees collected and 100% of Lunker
URL:https://heartlandanglers.com/event/sat-june-07-2/
LOCATION:Wheeler / Elk River\, Wheeler / Elk River\, alabama\, Lee High
CATEGORIES:alabama,alabama division 1
ORGANIZER;CN="Larry Pierce":MAILTO:rfcrazy299065@yahoo.com
END:VEVENT
END:VCALENDAR