BEGIN:VCALENDAR
VERSION:2.0
PRODID:-//Heartland Anglers - ECPv6.8.3//NONSGML v1.0//EN
CALSCALE:GREGORIAN
METHOD:PUBLISH
X-WR-CALNAME:Heartland Anglers
X-ORIGINAL-URL:https://heartlandanglers.com
X-WR-CALDESC:Events for Heartland Anglers
REFRESH-INTERVAL;VALUE=DURATION:PT1H
X-Robots-Tag:noindex
X-PUBLISHED-TTL:PT1H
BEGIN:VTIMEZONE
TZID:UTC
BEGIN:STANDARD
TZOFFSETFROM:+0000
TZOFFSETTO:+0000
TZNAME:UTC
DTSTART:20260101T000000
END:STANDARD
END:VTIMEZONE
BEGIN:VEVENT
DTSTART;TZID=UTC:20260425T070000
DTEND;TZID=UTC:20260425T150000
DTSTAMP:20260424T001456
CREATED:20260119T171038Z
LAST-MODIFIED:20260119T171525Z
UID:3412-1777100400-1777129200@heartlandanglers.com
SUMMARY:Sat\, April 25
DESCRIPTION:Wheeler / Elk River (Lee High)\nEntry Fee: $50 Per Team\, $10 Lunker\nPayouts: 90% of Entry Fees collected and 100% of Lunker
URL:https://heartlandanglers.com/event/sat-april-25-2/
LOCATION:Wheeler / Elk River\, Wheeler / Elk River\, alabama\, Lee High
CATEGORIES:alabama,alabama division 1
ORGANIZER;CN="Larry Pierce":MAILTO:rfcrazy299065@yahoo.com
END:VEVENT
BEGIN:VEVENT
DTSTART;TZID=UTC:20260425T070000
DTEND;TZID=UTC:20260425T150000
DTSTAMP:20260424T001456
CREATED:20260119T172348Z
LAST-MODIFIED:20260119T172348Z
UID:3420-1777100400-1777129200@heartlandanglers.com
SUMMARY:Sat\, April 25
DESCRIPTION:Wheeler / Elk River (Lee High)\nEntry Fee: $50 Per Team\, $10 Lunker\nPayouts: 90% of Entry Fees collected and 100% of Lunker
URL:https://heartlandanglers.com/event/sat-april-25-3/
LOCATION:Wheeler / Elk River\, Wheeler / Elk River\, alabama\, Lee High
CATEGORIES:alabama,alabama division 1
ORGANIZER;CN="Larry Pierce":MAILTO:rfcrazy299065@yahoo.com
END:VEVENT
END:VCALENDAR