BEGIN:VCALENDAR
VERSION:2.0
PRODID:-//Heartland Anglers - ECPv6.8.3//NONSGML v1.0//EN
CALSCALE:GREGORIAN
METHOD:PUBLISH
X-WR-CALNAME:Heartland Anglers
X-ORIGINAL-URL:https://heartlandanglers.com
X-WR-CALDESC:Events for Heartland Anglers
REFRESH-INTERVAL;VALUE=DURATION:PT1H
X-Robots-Tag:noindex
X-PUBLISHED-TTL:PT1H
BEGIN:VTIMEZONE
TZID:UTC
BEGIN:STANDARD
TZOFFSETFROM:+0000
TZOFFSETTO:+0000
TZNAME:UTC
DTSTART:20230101T000000
END:STANDARD
END:VTIMEZONE
BEGIN:VEVENT
DTSTART;TZID=UTC:20240615T070000
DTEND;TZID=UTC:20240615T150000
DTSTAMP:20260424T001431
CREATED:20240108T224425Z
LAST-MODIFIED:20240108T224425Z
UID:2337-1718434800-1718463600@heartlandanglers.com
SUMMARY:Sat\, June 15
DESCRIPTION:Wheeler / Elk River (Lee High) \nEntry Fee: $50 Per Team\, $10 Lunker \nPayouts: 90% of Entry Fees collected and 100% of Lunker \nMembership $35.00 Per Person
URL:https://heartlandanglers.com/event/sat-june-15/
LOCATION:Wheeler / Elk River\, Wheeler / Elk River\, alabama\, Lee High
CATEGORIES:alabama,alabama division 1
ORGANIZER;CN="Larry Pierce":MAILTO:rfcrazy299065@yahoo.com
END:VEVENT
BEGIN:VEVENT
DTSTART;TZID=UTC:20240601T070000
DTEND;TZID=UTC:20240601T150000
DTSTAMP:20260424T001431
CREATED:20240108T224312Z
LAST-MODIFIED:20240108T224312Z
UID:2335-1717225200-1717254000@heartlandanglers.com
SUMMARY:Sat\, June 01
DESCRIPTION:Wheeler / Elk River (Lee High) \nEntry Fee: $50 Per Team\, $10 Lunker \nPayouts: 90% of Entry Fees collected and 100% of Lunker \nMembership $35.00 Per Person
URL:https://heartlandanglers.com/event/sat-june-01/
LOCATION:Wheeler / Elk River\, Wheeler / Elk River\, alabama\, Lee High
CATEGORIES:alabama,alabama division 1
ORGANIZER;CN="Larry Pierce":MAILTO:rfcrazy299065@yahoo.com
END:VEVENT
BEGIN:VEVENT
DTSTART;TZID=UTC:20240525T070000
DTEND;TZID=UTC:20240525T150000
DTSTAMP:20260424T001431
CREATED:20240108T224132Z
LAST-MODIFIED:20240108T224132Z
UID:2333-1716620400-1716649200@heartlandanglers.com
SUMMARY:Sat\, May 25
DESCRIPTION:Wheeler / Elk River (Lee High) \nEntry Fee: $50 Per Team\, $10 Lunker \nPayouts: 90% of Entry Fees collected and 100% of Lunker \nMembership $35.00 Per Person
URL:https://heartlandanglers.com/event/sat-may-25/
LOCATION:Wheeler / Elk River\, Wheeler / Elk River\, alabama\, Lee High
CATEGORIES:alabama,alabama division 1
ORGANIZER;CN="Larry Pierce":MAILTO:rfcrazy299065@yahoo.com
END:VEVENT
BEGIN:VEVENT
DTSTART;TZID=UTC:20240504T070000
DTEND;TZID=UTC:20240504T150000
DTSTAMP:20260424T001431
CREATED:20240108T224024Z
LAST-MODIFIED:20240424T154823Z
UID:2331-1714806000-1714834800@heartlandanglers.com
SUMMARY:Sat\, May 04
DESCRIPTION:Wheeler / Elk River (Lee High) \nEntry Fee: $50 Per Team\, $10 Lunker \nPayouts: 90% of Entry Fees collected and 100% of Lunker \nMembership $35.00 Per Person
URL:https://heartlandanglers.com/event/sat-may-11-4/
LOCATION:Wheeler / Elk River\, Wheeler / Elk River\, alabama\, Lee High
CATEGORIES:alabama,alabama division 1
ORGANIZER;CN="Larry Pierce":MAILTO:rfcrazy299065@yahoo.com
END:VEVENT
BEGIN:VEVENT
DTSTART;TZID=UTC:20240420T070000
DTEND;TZID=UTC:20240420T150000
DTSTAMP:20260424T001431
CREATED:20240108T223740Z
LAST-MODIFIED:20240108T223740Z
UID:2329-1713596400-1713625200@heartlandanglers.com
SUMMARY:Sat\, April 20
DESCRIPTION:Wheeler / Elk River (Lee High) \nEntry Fee: $50 Per Team\, $10 Lunker \nPayouts: 90% of Entry Fees collected and 100% of Lunker \nMembership $35.00 Per Person
URL:https://heartlandanglers.com/event/sat-april-20-2/
LOCATION:Wheeler / Elk River\, Wheeler / Elk River\, alabama\, Lee High
CATEGORIES:alabama,alabama division 1
ORGANIZER;CN="Larry Pierce":MAILTO:rfcrazy299065@yahoo.com
END:VEVENT
BEGIN:VEVENT
DTSTART;TZID=UTC:20240406T070000
DTEND;TZID=UTC:20240406T150000
DTSTAMP:20260424T001431
CREATED:20240108T223642Z
LAST-MODIFIED:20240108T223642Z
UID:2327-1712386800-1712415600@heartlandanglers.com
SUMMARY:Sat\, April 06
DESCRIPTION:Wheeler / Elk River (Lee High) \nEntry Fee: $50 Per Team\, $10 Lunker \nPayouts: 90% of Entry Fees collected and 100% of Lunker \nMembership $35.00 Per Person
URL:https://heartlandanglers.com/event/sat-april-06/
LOCATION:Wheeler / Elk River\, Wheeler / Elk River\, alabama\, Lee High
CATEGORIES:alabama,alabama division 1
ORGANIZER;CN="Larry Pierce":MAILTO:rfcrazy299065@yahoo.com
END:VEVENT
BEGIN:VEVENT
DTSTART;TZID=UTC:20240323T070000
DTEND;TZID=UTC:20240323T150000
DTSTAMP:20260424T001431
CREATED:20240108T223453Z
LAST-MODIFIED:20240108T223453Z
UID:2325-1711177200-1711206000@heartlandanglers.com
SUMMARY:Sat\, March 23
DESCRIPTION:Wheeler / Elk River (Lee High) \nEntry Fee: $50 Per Team\, $10 Lunker \nPayouts: 90% of Entry Fees collected and 100% of Lunker \nMembership $35.00 Per Person
URL:https://heartlandanglers.com/event/sat-march-23-2/
LOCATION:Wheeler / Elk River\, Wheeler / Elk River\, alabama\, Lee High
CATEGORIES:alabama,alabama division 1
ORGANIZER;CN="Larry Pierce":MAILTO:rfcrazy299065@yahoo.com
END:VEVENT
BEGIN:VEVENT
DTSTART;TZID=UTC:20240309T070000
DTEND;TZID=UTC:20240309T150000
DTSTAMP:20260424T001431
CREATED:20240108T223321Z
LAST-MODIFIED:20240108T223321Z
UID:2323-1709967600-1709996400@heartlandanglers.com
SUMMARY:Sat\, March 09
DESCRIPTION:Wheeler / Elk River (Lee High) \nEntry Fee: $50 Per Team\, $10 Lunker \nPayouts: 90% of Entry Fees collected and 100% of Lunker \nMembership $35.00 Per Person
URL:https://heartlandanglers.com/event/sat-march-09-2/
LOCATION:Wheeler / Elk River\, Wheeler / Elk River\, alabama\, Lee High
CATEGORIES:alabama,alabama division 1
ORGANIZER;CN="Larry Pierce":MAILTO:rfcrazy299065@yahoo.com
END:VEVENT
BEGIN:VEVENT
DTSTART;TZID=UTC:20230624T070000
DTEND;TZID=UTC:20230624T150000
DTSTAMP:20260424T001431
CREATED:20230304T051410Z
LAST-MODIFIED:20230405T163009Z
UID:591-1687590000-1687618800@heartlandanglers.com
SUMMARY:Sat\, June 24
DESCRIPTION:Entry Fee: $50 Per Team\, $10 Lunker\nPayouts: 90% of Entry Fees collected and 100% of Lunker
URL:https://heartlandanglers.com/event/sat-june-24-2/
LOCATION:Wheeler / Elk River\, Wheeler / Elk River\, alabama\, Lee High
CATEGORIES:alabama,alabama division 1
ORGANIZER;CN="Larry Pierce":MAILTO:rfcrazy299065@yahoo.com
END:VEVENT
BEGIN:VEVENT
DTSTART;TZID=UTC:20230610T053000
DTEND;TZID=UTC:20230610T150000
DTSTAMP:20260424T001431
CREATED:20230304T051326Z
LAST-MODIFIED:20230405T163103Z
UID:588-1686375000-1686409200@heartlandanglers.com
SUMMARY:Sat\, June 10
DESCRIPTION:Entry Fee: $50 Per Team\, $10 Lunker\nPayouts: 90% of Entry Fees collected and 100% of Lunker
URL:https://heartlandanglers.com/event/sat-june-10/
LOCATION:Wheeler / Elk River\, Wheeler / Elk River\, alabama\, Lee High
CATEGORIES:alabama,alabama division 1
ORGANIZER;CN="Larry Pierce":MAILTO:rfcrazy299065@yahoo.com
END:VEVENT
BEGIN:VEVENT
DTSTART;TZID=UTC:20230527T070000
DTEND;TZID=UTC:20230527T150000
DTSTAMP:20260424T001431
CREATED:20230304T051246Z
LAST-MODIFIED:20230405T160204Z
UID:586-1685170800-1685199600@heartlandanglers.com
SUMMARY:Sat\, May 27
DESCRIPTION:Entry Fee: $50 Per Team\, $10 Lunker\nPayouts: 90% of Entry Fees collected and 100% of Lunker
URL:https://heartlandanglers.com/event/sat-may-27/
LOCATION:Wheeler / Elk River\, Wheeler / Elk River\, alabama\, Lee High
CATEGORIES:alabama,alabama division 1
ORGANIZER;CN="Larry Pierce":MAILTO:rfcrazy299065@yahoo.com
END:VEVENT
BEGIN:VEVENT
DTSTART;TZID=UTC:20230422T070000
DTEND;TZID=UTC:20230422T150000
DTSTAMP:20260424T001431
CREATED:20230304T051119Z
LAST-MODIFIED:20230405T154735Z
UID:581-1682146800-1682175600@heartlandanglers.com
SUMMARY:Sat\, April 22
DESCRIPTION:Entry Fee: $50 Per Team\, $10 Lunker\nPayouts: 90% of Entry Fees collected and 100% of Lunker
URL:https://heartlandanglers.com/event/sat-april-22-2/
LOCATION:Wheeler / Elk River\, Wheeler / Elk River\, alabama\, Lee High
CATEGORIES:alabama,alabama division 1
ORGANIZER;CN="Larry Pierce":MAILTO:rfcrazy299065@yahoo.com
END:VEVENT
BEGIN:VEVENT
DTSTART;TZID=UTC:20230408T070000
DTEND;TZID=UTC:20230408T150000
DTSTAMP:20260424T001431
CREATED:20230304T050916Z
LAST-MODIFIED:20230405T154527Z
UID:560-1680937200-1680966000@heartlandanglers.com
SUMMARY:Sat\, April 08
DESCRIPTION:Entry Fee: $50 Per Team\, $10 Lunker\nPayouts: 90% of Entry Fees collected and 100% of Lunker
URL:https://heartlandanglers.com/event/sat-april-08-2/
LOCATION:Wheeler / Elk River\, Wheeler / Elk River\, alabama\, Lee High
CATEGORIES:alabama,alabama division 1
ORGANIZER;CN="Larry Pierce":MAILTO:rfcrazy299065@yahoo.com
END:VEVENT
BEGIN:VEVENT
DTSTART;TZID=UTC:20230325T070000
DTEND;TZID=UTC:20230325T150000
DTSTAMP:20260424T001431
CREATED:20230303T125044Z
LAST-MODIFIED:20230405T154329Z
UID:555-1679727600-1679756400@heartlandanglers.com
SUMMARY:Sat\, March 25
DESCRIPTION:
URL:https://heartlandanglers.com/event/sat-march-25/
LOCATION:Wheeler / Elk River\, Wheeler / Elk River\, alabama\, Lee High
CATEGORIES:alabama,alabama division 1
ORGANIZER;CN="Larry Pierce":MAILTO:rfcrazy299065@yahoo.com
END:VEVENT
BEGIN:VEVENT
DTSTART;TZID=UTC:20230311T070000
DTEND;TZID=UTC:20230311T150000
DTSTAMP:20260424T001431
CREATED:20230303T124546Z
LAST-MODIFIED:20230405T144032Z
UID:553-1678518000-1678546800@heartlandanglers.com
SUMMARY:Sat\, March 11
DESCRIPTION:Entry Fee: $50 Per Team\, $10 Lunker\nPayouts: 90% of Entry Fees collected and 100% of Lunker
URL:https://heartlandanglers.com/event/sat-march-11/
LOCATION:Wheeler / Elk River\, Wheeler / Elk River\, alabama\, Lee High
CATEGORIES:alabama,alabama division 1
ORGANIZER;CN="Larry Pierce":MAILTO:rfcrazy299065@yahoo.com
END:VEVENT
END:VCALENDAR