BEGIN:VCALENDAR
VERSION:2.0
PRODID:-//Heartland Anglers - ECPv6.8.3//NONSGML v1.0//EN
CALSCALE:GREGORIAN
METHOD:PUBLISH
X-ORIGINAL-URL:https://heartlandanglers.com
X-WR-CALDESC:Events for Heartland Anglers
REFRESH-INTERVAL;VALUE=DURATION:PT1H
X-Robots-Tag:noindex
X-PUBLISHED-TTL:PT1H
BEGIN:VTIMEZONE
TZID:UTC
BEGIN:STANDARD
TZOFFSETFROM:+0000
TZOFFSETTO:+0000
TZNAME:UTC
DTSTART:20230101T000000
END:STANDARD
END:VTIMEZONE
BEGIN:VEVENT
DTSTART;TZID=UTC:20230527T070000
DTEND;TZID=UTC:20230527T150000
DTSTAMP:20260424T013343
CREATED:20230304T051246Z
LAST-MODIFIED:20230405T160204Z
UID:586-1685170800-1685199600@heartlandanglers.com
SUMMARY:Sat\, May 27
DESCRIPTION:Entry Fee: $50 Per Team\, $10 Lunker\nPayouts: 90% of Entry Fees collected and 100% of Lunker
URL:https://heartlandanglers.com/event/sat-may-27/
LOCATION:Wheeler / Elk River\, Wheeler / Elk River\, alabama\, Lee High
CATEGORIES:alabama,alabama division 1
ORGANIZER;CN="Larry Pierce":MAILTO:rfcrazy299065@yahoo.com
END:VEVENT
BEGIN:VEVENT
DTSTART;TZID=UTC:20230422T070000
DTEND;TZID=UTC:20230422T150000
DTSTAMP:20260424T013343
CREATED:20230304T051119Z
LAST-MODIFIED:20230405T154735Z
UID:581-1682146800-1682175600@heartlandanglers.com
SUMMARY:Sat\, April 22
DESCRIPTION:Entry Fee: $50 Per Team\, $10 Lunker\nPayouts: 90% of Entry Fees collected and 100% of Lunker
URL:https://heartlandanglers.com/event/sat-april-22-2/
LOCATION:Wheeler / Elk River\, Wheeler / Elk River\, alabama\, Lee High
CATEGORIES:alabama,alabama division 1
ORGANIZER;CN="Larry Pierce":MAILTO:rfcrazy299065@yahoo.com
END:VEVENT
BEGIN:VEVENT
DTSTART;TZID=UTC:20230408T070000
DTEND;TZID=UTC:20230408T150000
DTSTAMP:20260424T013343
CREATED:20230304T050916Z
LAST-MODIFIED:20230405T154527Z
UID:560-1680937200-1680966000@heartlandanglers.com
SUMMARY:Sat\, April 08
DESCRIPTION:Entry Fee: $50 Per Team\, $10 Lunker\nPayouts: 90% of Entry Fees collected and 100% of Lunker
URL:https://heartlandanglers.com/event/sat-april-08-2/
LOCATION:Wheeler / Elk River\, Wheeler / Elk River\, alabama\, Lee High
CATEGORIES:alabama,alabama division 1
ORGANIZER;CN="Larry Pierce":MAILTO:rfcrazy299065@yahoo.com
END:VEVENT
BEGIN:VEVENT
DTSTART;TZID=UTC:20230325T070000
DTEND;TZID=UTC:20230325T150000
DTSTAMP:20260424T013343
CREATED:20230303T125044Z
LAST-MODIFIED:20230405T154329Z
UID:555-1679727600-1679756400@heartlandanglers.com
SUMMARY:Sat\, March 25
DESCRIPTION:
URL:https://heartlandanglers.com/event/sat-march-25/
LOCATION:Wheeler / Elk River\, Wheeler / Elk River\, alabama\, Lee High
CATEGORIES:alabama,alabama division 1
ORGANIZER;CN="Larry Pierce":MAILTO:rfcrazy299065@yahoo.com
END:VEVENT
BEGIN:VEVENT
DTSTART;TZID=UTC:20230311T070000
DTEND;TZID=UTC:20230311T150000
DTSTAMP:20260424T013343
CREATED:20230303T124546Z
LAST-MODIFIED:20230405T144032Z
UID:553-1678518000-1678546800@heartlandanglers.com
SUMMARY:Sat\, March 11
DESCRIPTION:Entry Fee: $50 Per Team\, $10 Lunker\nPayouts: 90% of Entry Fees collected and 100% of Lunker
URL:https://heartlandanglers.com/event/sat-march-11/
LOCATION:Wheeler / Elk River\, Wheeler / Elk River\, alabama\, Lee High
CATEGORIES:alabama,alabama division 1
ORGANIZER;CN="Larry Pierce":MAILTO:rfcrazy299065@yahoo.com
END:VEVENT
END:VCALENDAR