BEGIN:VCALENDAR
VERSION:2.0
PRODID:-//Heartland Anglers - ECPv6.8.3//NONSGML v1.0//EN
CALSCALE:GREGORIAN
METHOD:PUBLISH
X-WR-CALNAME:Heartland Anglers
X-ORIGINAL-URL:https://heartlandanglers.com
X-WR-CALDESC:Events for Heartland Anglers
REFRESH-INTERVAL;VALUE=DURATION:PT1H
X-Robots-Tag:noindex
X-PUBLISHED-TTL:PT1H
BEGIN:VTIMEZONE
TZID:UTC
BEGIN:STANDARD
TZOFFSETFROM:+0000
TZOFFSETTO:+0000
TZNAME:UTC
DTSTART:20230101T000000
END:STANDARD
END:VTIMEZONE
BEGIN:VEVENT
DTSTART;TZID=UTC:20260131T070000
DTEND;TZID=UTC:20260131T150000
DTSTAMP:20260424T023932
CREATED:20251105T195604Z
LAST-MODIFIED:20251105T195604Z
UID:3251-1769842800-1769871600@heartlandanglers.com
SUMMARY:Sat\, January 31\, 2026
DESCRIPTION:Lake: Big Bear – Piney Point \nEntry Fee: $50 Per Team\, $10 Lunker\nBig Fish: $10\, Membership: $35 Per Person\nPayouts: 90% of Entry Fees collected and 100% of Lunker
URL:https://heartlandanglers.com/event/sat-january-31-2026/
LOCATION:Lake: Big Bear\, Lake: Big Bear\, Alabama
CATEGORIES:alabama,alabama division 10
END:VEVENT
BEGIN:VEVENT
DTSTART;TZID=UTC:20260117T070000
DTEND;TZID=UTC:20260117T150000
DTSTAMP:20260424T023932
CREATED:20251105T195424Z
LAST-MODIFIED:20251105T195424Z
UID:3249-1768633200-1768662000@heartlandanglers.com
SUMMARY:Sat\, January 17\, 2026
DESCRIPTION:Lake: Little Bear – Elliot’s Creek \nEntry Fee: $50 Per Team\, $10 Lunker\nBig Fish: $10\, Membership: $35 Per Person\nPayouts: 90% of Entry Fees collected and 100% of Lunker
URL:https://heartlandanglers.com/event/sat-january-17-2026-2/
LOCATION:Lake: Little Bear\, Lake: Little Bear\, Alabama
CATEGORIES:alabama,alabama division 10
END:VEVENT
BEGIN:VEVENT
DTSTART;TZID=UTC:20260103T070000
DTEND;TZID=UTC:20260103T150000
DTSTAMP:20260424T023932
CREATED:20251105T195235Z
LAST-MODIFIED:20251105T195235Z
UID:3247-1767423600-1767452400@heartlandanglers.com
SUMMARY:Sat\, January 03\, 2026
DESCRIPTION:Lake: Upper Bear – Twin Forks \nEntry Fee: $50 Per Team\, $10 Lunker\nBig Fish: $10\, Membership: $35 Per Person\nPayouts: 90% of Entry Fees collected and 100% of Lunker
URL:https://heartlandanglers.com/event/sat-january-03-2026-2/
LOCATION:Lake Upper Bear\, Lake Upper Bear\, Alabama
CATEGORIES:alabama,alabama division 10
END:VEVENT
BEGIN:VEVENT
DTSTART;TZID=UTC:20251220T070000
DTEND;TZID=UTC:20251220T150000
DTSTAMP:20260424T023932
CREATED:20251105T194653Z
LAST-MODIFIED:20251105T194653Z
UID:3245-1766214000-1766242800@heartlandanglers.com
SUMMARY:Sat\, December 20\, 2025
DESCRIPTION:Lake: Cedar – Slick Road \nEntry Fee: $50 Per Team\, $10 Lunker\nBig Fish: $10\, Membership: $35 Per Person\nPayouts: 90% of Entry Fees collected and 100% of Lunker
URL:https://heartlandanglers.com/event/sat-december-20-2025/
LOCATION:Lake: Cedar\, Lake: Cedar\, Alabama
CATEGORIES:alabama,alabama division 10
END:VEVENT
BEGIN:VEVENT
DTSTART;TZID=UTC:20251206T070000
DTEND;TZID=UTC:20251206T150000
DTSTAMP:20260424T023932
CREATED:20251105T194455Z
LAST-MODIFIED:20251105T194455Z
UID:3242-1765004400-1765033200@heartlandanglers.com
SUMMARY:Sat\, December 06\, 2025
DESCRIPTION:Lake: Little – Elliot’s Creek \nEntry Fee: $50 Per Team\, $10 Lunker\nBig Fish: $10\, Membership: $35 Per Person\nPayouts: 90% of Entry Fees collected and 100% of Lunker
URL:https://heartlandanglers.com/event/sat-december-06-2025/
LOCATION:Lake: Little Bear\, Lake: Little Bear\, Alabama
CATEGORIES:alabama,alabama division 10
END:VEVENT
BEGIN:VEVENT
DTSTART;TZID=UTC:20250222T070000
DTEND;TZID=UTC:20250222T150000
DTSTAMP:20260424T023932
CREATED:20250117T053103Z
LAST-MODIFIED:20250117T053103Z
UID:3018-1740207600-1740236400@heartlandanglers.com
SUMMARY:Sat\, February 22
DESCRIPTION:Lake: Big Bear (Piney Point) \nEntry Fee: $50 Per Team\, $10 Lunker \nPayouts: 90% of Entry Fees collected and 100% of Lunker
URL:https://heartlandanglers.com/event/sat-february-22-2/
LOCATION:Lake: Big Bear\, Lake: Big Bear\, Alabama
CATEGORIES:alabama,alabama division 10
END:VEVENT
BEGIN:VEVENT
DTSTART;TZID=UTC:20250125T070000
DTEND;TZID=UTC:20250125T150000
DTSTAMP:20260424T023932
CREATED:20250117T052921Z
LAST-MODIFIED:20250117T052921Z
UID:3016-1737788400-1737817200@heartlandanglers.com
SUMMARY:Sat\, January 25
DESCRIPTION:Lake: Upper Bear (Twin Forks) \nEntry Fee: $50 Per Team\, $10 Lunker \nPayouts: 90% of Entry Fees collected and 100% of Lunker
URL:https://heartlandanglers.com/event/sat-january-25/
LOCATION:Lake Upper Bear\, Lake Upper Bear\, Alabama
CATEGORIES:alabama,alabama division 10
END:VEVENT
BEGIN:VEVENT
DTSTART;TZID=UTC:20250104T070000
DTEND;TZID=UTC:20250104T150000
DTSTAMP:20260424T023932
CREATED:20250117T052719Z
LAST-MODIFIED:20250117T052720Z
UID:3014-1735974000-1736002800@heartlandanglers.com
SUMMARY:Sat\, January 04
DESCRIPTION:Lake: Cedar (Slick Rock) \nEntry Fee: $50 Per Team\, $10 Lunker \nPayouts: 90% of Entry Fees collected and 100% of Lunker
URL:https://heartlandanglers.com/event/sat-january-04-2/
LOCATION:Lake: Cedar\, Lake: Cedar\, Alabama
CATEGORIES:alabama,alabama division 10
END:VEVENT
BEGIN:VEVENT
DTSTART;TZID=UTC:20240224T070000
DTEND;TZID=UTC:20240224T150000
DTSTAMP:20260424T023932
CREATED:20231012T123647Z
LAST-MODIFIED:20231127T200337Z
UID:2114-1708758000-1708786800@heartlandanglers.com
SUMMARY:Sat\, February 24
DESCRIPTION:Lake: Big Bear. Ramp: Piney Point \nEntry Fee: $50 Per Team\, $10 Lunker \nPayouts: 90% of Entry Fees collected and 100% of Lunker
URL:https://heartlandanglers.com/event/sat-february-17-2/
LOCATION:Lake: Big Bear\, Lake: Big Bear\, Alabama
CATEGORIES:alabama,alabama division 10
END:VEVENT
BEGIN:VEVENT
DTSTART;TZID=UTC:20240127T070000
DTEND;TZID=UTC:20240127T150000
DTSTAMP:20260424T023932
CREATED:20231012T123514Z
LAST-MODIFIED:20231127T191949Z
UID:2112-1706338800-1706367600@heartlandanglers.com
SUMMARY:Sat\, January 27
DESCRIPTION:Lake: Cedar. Ramp: Slick Rock \nEntry Fee: $50 Per Team\, $10 Lunker \nPayouts: 90% of Entry Fees collected and 100% of Lunker
URL:https://heartlandanglers.com/event/sat-january-20-3/
LOCATION:Lake: Cedar\, Lake: Cedar\, Alabama
CATEGORIES:alabama,alabama division 10
END:VEVENT
BEGIN:VEVENT
DTSTART;TZID=UTC:20240106T070000
DTEND;TZID=UTC:20240106T150000
DTSTAMP:20260424T023932
CREATED:20231012T123159Z
LAST-MODIFIED:20231012T123159Z
UID:2110-1704524400-1704553200@heartlandanglers.com
SUMMARY:Sat\, January 06
DESCRIPTION:Lake: Little Bear. Ramp: Elliots Branch \nEntry Fee: $50 Per Team\, $10 Lunker \nPayouts: 90% of Entry Fees collected and 100% of Lunker
URL:https://heartlandanglers.com/event/sat-january-06-2/
LOCATION:Lake: Little Bear\, Lake: Little Bear\, Alabama
CATEGORIES:alabama,alabama division 10
END:VEVENT
BEGIN:VEVENT
DTSTART;TZID=UTC:20231230T070000
DTEND;TZID=UTC:20231230T150000
DTSTAMP:20260424T023932
CREATED:20231012T123102Z
LAST-MODIFIED:20231012T123102Z
UID:2108-1703919600-1703948400@heartlandanglers.com
SUMMARY:Sat\, December 30
DESCRIPTION:Lake: Cedar. Ramp: Slick Rock \nEntry Fee: $50 Per Team\, $10 Lunker \nPayouts: 90% of Entry Fees collected and 100% of Lunker
URL:https://heartlandanglers.com/event/sat-december-30-3/
LOCATION:Lake: Cedar\, Lake: Cedar\, Alabama
CATEGORIES:alabama,alabama division 10
END:VEVENT
BEGIN:VEVENT
DTSTART;TZID=UTC:20231209T070000
DTEND;TZID=UTC:20231209T150000
DTSTAMP:20260424T023932
CREATED:20231012T122609Z
LAST-MODIFIED:20231012T122957Z
UID:2096-1702105200-1702134000@heartlandanglers.com
SUMMARY:Sat\, December 09
DESCRIPTION:Lake Upper Bear (Twin Forks) \nEntry Fee: $50 Per Team\, $10 Lunker \nPayouts: 90% of Entry Fees collected and 100% of Lunker
URL:https://heartlandanglers.com/event/sat-december-09-2/
LOCATION:Lake Upper Bear\, Lake Upper Bear\, Alabama
CATEGORIES:alabama,alabama division 10
END:VEVENT
END:VCALENDAR