BEGIN:VCALENDAR
VERSION:2.0
PRODID:-//Heartland Anglers - ECPv6.8.3//NONSGML v1.0//EN
CALSCALE:GREGORIAN
METHOD:PUBLISH
X-WR-CALNAME:Heartland Anglers
X-ORIGINAL-URL:https://heartlandanglers.com
X-WR-CALDESC:Events for Heartland Anglers
REFRESH-INTERVAL;VALUE=DURATION:PT1H
X-Robots-Tag:noindex
X-PUBLISHED-TTL:PT1H
BEGIN:VTIMEZONE
TZID:UTC
BEGIN:STANDARD
TZOFFSETFROM:+0000
TZOFFSETTO:+0000
TZNAME:UTC
DTSTART:20260101T000000
END:STANDARD
END:VTIMEZONE
BEGIN:VEVENT
DTSTART;TZID=UTC:20260517T070000
DTEND;TZID=UTC:20260517T150000
DTSTAMP:20260423T214350
CREATED:20260119T162322Z
LAST-MODIFIED:20260205T154117Z
UID:3398-1779001200-1779030000@heartlandanglers.com
SUMMARY:Sun May 17
DESCRIPTION:Lake Guntersville\nRamp: Waterfront \nMEMBERSHIP FEE WILL BE $35 PER PERSON \nENTRY FEE WILL BE $60.00 (90%) \nLunker: $20 (100%) \n$35 Membership fee \nGrant Williams\n256-348-5500
URL:https://heartlandanglers.com/event/sun-may-17/
LOCATION:Guntersville\, Guntersville\, alabama\, Waterfront
CATEGORIES:alabama,alabama division 3
END:VEVENT
BEGIN:VEVENT
DTSTART;TZID=UTC:20260523T070000
DTEND;TZID=UTC:20260523T150000
DTSTAMP:20260423T214350
CREATED:20260205T142613Z
LAST-MODIFIED:20260205T142613Z
UID:3471-1779519600-1779548400@heartlandanglers.com
SUMMARY:Sat\, May 23
DESCRIPTION:Wilson (Fleet Harbor)\nEntry Fee: $50 Per Team\, $10 Lunker\nPayouts: 90% of Entry Fees collected and 100% of Lunker
URL:https://heartlandanglers.com/event/sat-may-23-wilson/
LOCATION:Wilson Lake\, Wilson Lake\, alabama\, Safety Harbor
CATEGORIES:alabama,alabama division 5
END:VEVENT
BEGIN:VEVENT
DTSTART;TZID=UTC:20260524T070000
DTEND;TZID=UTC:20260524T150000
DTSTAMP:20260423T214350
CREATED:20260119T162409Z
LAST-MODIFIED:20260119T162409Z
UID:3400-1779606000-1779634800@heartlandanglers.com
SUMMARY:Sat\, May 24
DESCRIPTION:Lake Guntersville\nRamp: Waterfront \nMEMBERSHIP FEE WILL BE $35 PER PERSON \nENTRY FEE WILL BE $60.00 (90%) \nLunker: $20 (100%) \n$35 Membership fee \nGrant Williams\n256-348-5500
URL:https://heartlandanglers.com/event/sat-may-24-2/
LOCATION:Guntersville\, Guntersville\, alabama\, Waterfront
CATEGORIES:alabama,alabama division 3
END:VEVENT
BEGIN:VEVENT
DTSTART;TZID=UTC:20260606T070000
DTEND;TZID=UTC:20260606T150000
DTSTAMP:20260423T214350
CREATED:20260205T142852Z
LAST-MODIFIED:20260205T142852Z
UID:3477-1780729200-1780758000@heartlandanglers.com
SUMMARY:Sat\, June 6
DESCRIPTION:Pickwick (McFarland)\nEntry Fee: $50 Per Team\, $10 Lunker\nPayouts: 90% of Entry Fees collected and 100% of Lunker
URL:https://heartlandanglers.com/event/sat-june-6-pw/
LOCATION:Pickwick\, Pickwick\, alabama\, McFarland
CATEGORIES:alabama,alabama division 6
END:VEVENT
BEGIN:VEVENT
DTSTART;TZID=UTC:20260607T070000
DTEND;TZID=UTC:20260607T150000
DTSTAMP:20260423T214350
CREATED:20260119T162506Z
LAST-MODIFIED:20260205T154103Z
UID:3402-1780815600-1780844400@heartlandanglers.com
SUMMARY:Sun\, June 7
DESCRIPTION:Lake Guntersville\nRamp: Waterfront \nMEMBERSHIP FEE WILL BE $35 PER PERSON \nENTRY FEE WILL BE $60.00 (90%) \nLunker: $20 (100%) \n$35 Membership fee \nGrant Williams\n256-348-5500
URL:https://heartlandanglers.com/event/sun-june-7/
LOCATION:Guntersville\, Guntersville\, alabama\, Waterfront
CATEGORIES:alabama,alabama division 3
END:VEVENT
BEGIN:VEVENT
DTSTART;TZID=UTC:20260614T070000
DTEND;TZID=UTC:20260614T150000
DTSTAMP:20260423T214350
CREATED:20260119T162602Z
LAST-MODIFIED:20260205T154049Z
UID:3404-1781420400-1781449200@heartlandanglers.com
SUMMARY:Sun\, June 14
DESCRIPTION:Lake Guntersville\nRamp: Waterfront \nMEMBERSHIP FEE WILL BE $35 PER PERSON \nENTRY FEE WILL BE $60.00 (90%) \nLunker: $20 (100%) \n$35 Membership fee \nGrant Williams\n256-348-5500
URL:https://heartlandanglers.com/event/sun-june-14/
LOCATION:Guntersville\, Guntersville\, alabama\, Waterfront
CATEGORIES:alabama,alabama division 3
END:VEVENT
END:VCALENDAR