BEGIN:VCALENDAR
VERSION:2.0
PRODID:-//Heartland Anglers - ECPv6.8.3//NONSGML v1.0//EN
CALSCALE:GREGORIAN
METHOD:PUBLISH
X-ORIGINAL-URL:https://heartlandanglers.com
X-WR-CALDESC:Events for Heartland Anglers
REFRESH-INTERVAL;VALUE=DURATION:PT1H
X-Robots-Tag:noindex
X-PUBLISHED-TTL:PT1H
BEGIN:VTIMEZONE
TZID:UTC
BEGIN:STANDARD
TZOFFSETFROM:+0000
TZOFFSETTO:+0000
TZNAME:UTC
DTSTART:20260101T000000
END:STANDARD
END:VTIMEZONE
BEGIN:VEVENT
DTSTART;TZID=UTC:20260509T070000
DTEND;TZID=UTC:20260509T150000
DTSTAMP:20260423T181450
CREATED:20260119T160239Z
LAST-MODIFIED:20260119T160239Z
UID:3383-1778310000-1778338800@heartlandanglers.com
SUMMARY:Sat\,  May 9
DESCRIPTION:Kentucky Lake (Big Bear public ramp Gilbertsville)\nEntry $50.00\nLunker $10.00\nMembership $35.00
URL:https://heartlandanglers.com/event/sat-may-9/
LOCATION:Kentucky Lake\, Kentucky Lake\, kentucky\, Big Bear Public Boat Ramp (Gilbertsville)
CATEGORIES:kentucky,kentucky division 2
ORGANIZER;CN="James Cross":MAILTO:j.cross6957@yahoo.com
END:VEVENT
BEGIN:VEVENT
DTSTART;TZID=UTC:20260523T070000
DTEND;TZID=UTC:20260523T150000
DTSTAMP:20260423T181450
CREATED:20260119T160336Z
LAST-MODIFIED:20260119T160336Z
UID:3385-1779519600-1779548400@heartlandanglers.com
SUMMARY:Sat\,  May 23
DESCRIPTION:Kentucky Lake (Big Bear public ramp Gilbertsville)\nEntry $50.00\nLunker $10.00\nMembership $35.00
URL:https://heartlandanglers.com/event/sat-may-23/
LOCATION:Kentucky Lake\, Kentucky Lake\, kentucky\, Big Bear Public Boat Ramp (Gilbertsville)
CATEGORIES:kentucky,kentucky division 2
ORGANIZER;CN="James Cross":MAILTO:j.cross6957@yahoo.com
END:VEVENT
END:VCALENDAR