BEGIN:VCALENDAR
VERSION:2.0
PRODID:-//Heartland Anglers - ECPv6.8.3//NONSGML v1.0//EN
CALSCALE:GREGORIAN
METHOD:PUBLISH
X-ORIGINAL-URL:https://heartlandanglers.com
X-WR-CALDESC:Events for Heartland Anglers
REFRESH-INTERVAL;VALUE=DURATION:PT1H
X-Robots-Tag:noindex
X-PUBLISHED-TTL:PT1H
BEGIN:VTIMEZONE
TZID:UTC
BEGIN:STANDARD
TZOFFSETFROM:+0000
TZOFFSETTO:+0000
TZNAME:UTC
DTSTART:20250101T000000
END:STANDARD
END:VTIMEZONE
BEGIN:VEVENT
DTSTART;TZID=UTC:20250621T070000
DTEND;TZID=UTC:20260328T150000
DTSTAMP:20260423T203320
CREATED:20260112T141527Z
LAST-MODIFIED:20260112T141527Z
UID:3371-1750489200-1774710000@heartlandanglers.com
SUMMARY:Sat\, March 28
DESCRIPTION:Kentucky Lake (Big Bear public ramp Gilbertsville)\nEntry $50.00\nLunker $10.00\nMembership $35.00
URL:https://heartlandanglers.com/event/sat-march-28/
LOCATION:Kentucky Lake\, Kentucky Lake\, kentucky\, Big Bear Public Boat Ramp (Gilbertsville)
CATEGORIES:kentucky,kentucky division 2
ORGANIZER;CN="James Cross":MAILTO:j.cross6957@yahoo.com
END:VEVENT
END:VCALENDAR