BEGIN:VCALENDAR
VERSION:2.0
PRODID:-//Heartland Anglers - ECPv6.8.3//NONSGML v1.0//EN
CALSCALE:GREGORIAN
METHOD:PUBLISH
X-WR-CALNAME:Heartland Anglers
X-ORIGINAL-URL:https://heartlandanglers.com
X-WR-CALDESC:Events for Heartland Anglers
REFRESH-INTERVAL;VALUE=DURATION:PT1H
X-Robots-Tag:noindex
X-PUBLISHED-TTL:PT1H
BEGIN:VTIMEZONE
TZID:UTC
BEGIN:STANDARD
TZOFFSETFROM:+0000
TZOFFSETTO:+0000
TZNAME:UTC
DTSTART:20230101T000000
END:STANDARD
END:VTIMEZONE
BEGIN:VEVENT
DTSTART;TZID=UTC:20240316T070000
DTEND;TZID=UTC:20240317T160000
DTSTAMP:20260423T225941
CREATED:20230824T180544Z
LAST-MODIFIED:20230824T180544Z
UID:2040-1710572400-1710691200@heartlandanglers.com
SUMMARY:Sat\, March 16
DESCRIPTION:MEMBERSHIP FEE WILL BE $25 PER PERSON \nENTRY FEE WILL BE $100.00 PER TEAM\nHEARTLAND ANGLERS MEMBERSHIP WILL BE $35.00 \nMUST FISH 4 OF THE 6 EVENTS TO QUALIFY FOR THE CLASSIC AND\nHARTLAND ANGLER CLASSIC FOR 2024 \nPERRY GRAVES \n828-557-0885
URL:https://heartlandanglers.com/event/sat-march-16/
LOCATION:Lake Nottley -Deaver Boat Ramp\, Lake Nottley -Deaver Boat Ramp\, North Carolina\, Lake Chatuge
CATEGORIES:lake chatuge,North Carolina
END:VEVENT
BEGIN:VEVENT
DTSTART;TZID=UTC:20240217T070000
DTEND;TZID=UTC:20240217T160000
DTSTAMP:20260423T225941
CREATED:20230824T180331Z
LAST-MODIFIED:20231127T200339Z
UID:2038-1708153200-1708185600@heartlandanglers.com
SUMMARY:Sat\, February 17
DESCRIPTION:MEMBERSHIP FEE WILL BE $25 PER PERSON\nENTRY FEE WILL BE $100.00 PER TEAM\nHEARTLAND ANGLERS MEMBERSHIP WILL BE $35.00 \nMUST FISH 4 OF THE 6 EVENTS TO QUALIFY FOR THE CLASSIC AND\nHARTLAND ANGLER CLASSIC FOR 2024 \nPERRY GRAVES \n828-557-0885
URL:https://heartlandanglers.com/event/sat-february-17/
LOCATION:Lake Chatuge Ledford Chapel Boat Ramp\, Lake Chatuge Ledford Chapel Boat Ramp\, North Carolina\, Lake Chatuge
CATEGORIES:lake chatuge,North Carolina
END:VEVENT
BEGIN:VEVENT
DTSTART;TZID=UTC:20240120T070000
DTEND;TZID=UTC:20240120T160000
DTSTAMP:20260423T225941
CREATED:20230824T180204Z
LAST-MODIFIED:20230824T180204Z
UID:2035-1705734000-1705766400@heartlandanglers.com
SUMMARY:Sat\, January 20
DESCRIPTION:MEMBERSHIP FEE WILL BE $25 PER PERSON\nENTRY FEE WILL BE $100.00 PER TEAM\nHEARTLAND ANGLERS MEMBERSHIP WILL BE $35.00 \nMUST FISH 4 OF THE 6 EVENTS TO QUALIFY FOR THE CLASSIC AND\nHARTLAND ANGLER CLASSIC FOR 2024 \nPERRY GRAVES \n828-557-0885
URL:https://heartlandanglers.com/event/sat-january-20/
LOCATION:Lake Nottley -Deaver Boat Ramp\, Lake Nottley -Deaver Boat Ramp\, North Carolina\, Lake Chatuge
CATEGORIES:lake chatuge,North Carolina
END:VEVENT
BEGIN:VEVENT
DTSTART;TZID=UTC:20231230T070000
DTEND;TZID=UTC:20231230T160000
DTSTAMP:20260423T225941
CREATED:20230824T180028Z
LAST-MODIFIED:20230824T180028Z
UID:2033-1703919600-1703952000@heartlandanglers.com
SUMMARY:Sat\, December 30
DESCRIPTION:OPEN TOURNAMENT – $100.00 PAYBACK \nMEMBERSHIP FEE WILL BE $25 PER PERSON\nENTRY FEE WILL BE $100.00 PER TEAM\nHEARTLAND ANGLERS MEMBERSHIP WILL BE $35.00 \nMUST FISH 4 OF THE 6 EVENTS TO QUALIFY FOR THE CLASSIC AND\nHARTLAND ANGLER CLASSIC FOR 2024 \nPERRY GRAVES \n828-557-0885
URL:https://heartlandanglers.com/event/sat-december-30/
LOCATION:Lake Chatuge Ledford Chapel Boat Ramp\, Lake Chatuge Ledford Chapel Boat Ramp\, North Carolina\, Lake Chatuge
CATEGORIES:lake chatuge,North Carolina
END:VEVENT
BEGIN:VEVENT
DTSTART;TZID=UTC:20231216T070000
DTEND;TZID=UTC:20231216T160000
DTSTAMP:20260423T225941
CREATED:20230824T175830Z
LAST-MODIFIED:20230824T175830Z
UID:2031-1702710000-1702742400@heartlandanglers.com
SUMMARY:Sat\, December 16
DESCRIPTION:MEMBERSHIP FEE WILL BE $25 PER PERSON\nENTRY FEE WILL BE $100.00 PER TEAM\nHEARTLAND ANGLERS MEMBERSHIP WILL BE $35.00 \nMUST FISH 4 OF THE 6 EVENTS TO QUALIFY FOR THE CLASSIC AND\nHARTLAND ANGLER CLASSIC FOR 2024 \nPERRY GRAVES \n828-557-0885
URL:https://heartlandanglers.com/event/sat-december-16/
LOCATION:Lake Burton\, Lake Burton\, North Carolina
CATEGORIES:lake chatuge,North Carolina
END:VEVENT
BEGIN:VEVENT
DTSTART;TZID=UTC:20231118T070000
DTEND;TZID=UTC:20231118T160000
DTSTAMP:20260423T225941
CREATED:20230824T175652Z
LAST-MODIFIED:20230824T175652Z
UID:2027-1700290800-1700323200@heartlandanglers.com
SUMMARY:Sat\, November 18
DESCRIPTION:MEMBERSHIP FEE WILL BE $25 PER PERSON\nENTRY FEE WILL BE $100.00 PER TEAM\nHEARTLAND ANGLERS MEMBERSHIP WILL BE $35.00 \nMUST FISH 4 OF THE 6 EVENTS TO QUALIFY FOR THE CLASSIC AND\nHARTLAND ANGLER CLASSIC FOR 2024 \nPERRY GRAVES \n828-557-0885
URL:https://heartlandanglers.com/event/sat-november-18/
LOCATION:Lake Nottley -Deaver Boat Ramp\, Lake Nottley -Deaver Boat Ramp\, North Carolina\, Lake Chatuge
CATEGORIES:lake chatuge,North Carolina
END:VEVENT
BEGIN:VEVENT
DTSTART;TZID=UTC:20231028T070000
DTEND;TZID=UTC:20231028T160000
DTSTAMP:20260423T225941
CREATED:20230824T175357Z
LAST-MODIFIED:20230824T175523Z
UID:2017-1698476400-1698508800@heartlandanglers.com
SUMMARY:Sat\, October 28
DESCRIPTION:MEMBERSHIP FEE WILL BE $25 PER PERSON\nENTRY FEE WILL BE $100.00 PER TEAM\nHEARTLAND ANGLERS MEMBERSHIP WILL BE $35.00 \nMUST FISH 4 OF THE 6 EVENTS TO QUALIFY FOR THE CLASSIC AND\nHARTLAND ANGLER CLASSIC FOR 2024 \nPERRY GRAVES \n828-557-0885
URL:https://heartlandanglers.com/event/sat-october-25/
LOCATION:Lake Chatuge Ledford Chapel Boat Ramp\, Lake Chatuge Ledford Chapel Boat Ramp\, North Carolina\, Lake Chatuge
CATEGORIES:lake chatuge,North Carolina
END:VEVENT
END:VCALENDAR