BEGIN:VCALENDAR
VERSION:2.0
PRODID:-//Heartland Anglers - ECPv6.8.3//NONSGML v1.0//EN
CALSCALE:GREGORIAN
METHOD:PUBLISH
X-WR-CALNAME:Heartland Anglers
X-ORIGINAL-URL:https://heartlandanglers.com
X-WR-CALDESC:Events for Heartland Anglers
REFRESH-INTERVAL;VALUE=DURATION:PT1H
X-Robots-Tag:noindex
X-PUBLISHED-TTL:PT1H
BEGIN:VTIMEZONE
TZID:UTC
BEGIN:STANDARD
TZOFFSETFROM:+0000
TZOFFSETTO:+0000
TZNAME:UTC
DTSTART:20230101T000000
END:STANDARD
TZID:UTC
BEGIN:STANDARD
TZOFFSETFROM:+0000
TZOFFSETTO:+0000
TZNAME:UTC
DTSTART:20230101T000000
END:STANDARD
END:VTIMEZONE
BEGIN:VEVENT
DTSTART;TZID=UTC:20240323T070000
DTEND;TZID=UTC:20240323T150000
DTSTAMP:20260423T230155
CREATED:20240130T171852Z
LAST-MODIFIED:20240130T171852Z
UID:2750-1711177200-1711206000@heartlandanglers.com
SUMMARY:Sat\, March 23
DESCRIPTION:Fort Loudon/Tellico – Tellico Canal Ramp \nEntry Fee: $50 Per Team\, $10 Big Fish \nPayouts: 90% of Entry Fees collected and 100% of Lunker \nMembership: $35 Per Person
URL:https://heartlandanglers.com/event/sat-march-23-3/
LOCATION:Fort Loudon/Tellico\, Fort Loudon/Tellico\, tennessee
CATEGORIES:tennessee,tennessee division 5
END:VEVENT
BEGIN:VEVENT
DTSTART;TZID=UTC:20240309T070000
DTEND;TZID=UTC:20240309T150000
DTSTAMP:20260423T230155
CREATED:20240130T171619Z
LAST-MODIFIED:20240130T171619Z
UID:2741-1709967600-1709996400@heartlandanglers.com
SUMMARY:Sat\, March 09
DESCRIPTION:Fort Loudon/Tellico – Tellico Canal Ramp \nEntry Fee: $50 Per Team\, $10 Big Fish \nPayouts: 90% of Entry Fees collected and 100% of Lunker \nMembership: $35 Per Person
URL:https://heartlandanglers.com/event/sat-march-09-3/
LOCATION:Fort Loudon/Tellico\, Fort Loudon/Tellico\, tennessee
CATEGORIES:tennessee,tennessee division 5
END:VEVENT
BEGIN:VEVENT
DTSTART;TZID=UTC:20230513T070000
DTEND;TZID=UTC:20230513T153000
DTSTAMP:20260423T230155
CREATED:20230303T100937Z
LAST-MODIFIED:20230405T155054Z
UID:393-1683961200-1683991800@heartlandanglers.com
SUMMARY:Sat\, May 13
DESCRIPTION:$50 Entry Fee (90% payback)\n$10 Big fish (100% payback)
URL:https://heartlandanglers.com/event/sat-may-13/
LOCATION:Fort Loudon/Tellico\, Fort Loudon/Tellico\, tennessee
CATEGORIES:tennessee,tennessee division 5
ORGANIZER;CN="Freddie Walker":MAILTO:frederick.walker@siemens-healthineers.com
END:VEVENT
BEGIN:VEVENT
DTSTART;TZID=UTC:20230422T070000
DTEND;TZID=UTC:20230422T153000
DTSTAMP:20260423T230155
CREATED:20230303T100859Z
LAST-MODIFIED:20230405T154754Z
UID:391-1682146800-1682177400@heartlandanglers.com
SUMMARY:Sat\, April 22
DESCRIPTION:$50 Entry Fee (90% payback)\n$10 Big fish (100% payback)
URL:https://heartlandanglers.com/event/sat-april-22/
LOCATION:Fort Loudon/Tellico\, Fort Loudon/Tellico\, tennessee
CATEGORIES:tennessee,tennessee division 5
ORGANIZER;CN="Freddie Walker":MAILTO:frederick.walker@siemens-healthineers.com
END:VEVENT
BEGIN:VEVENT
DTSTART;TZID=UTC:20230408T070000
DTEND;TZID=UTC:20230408T153000
DTSTAMP:20260423T230155
CREATED:20230303T100322Z
LAST-MODIFIED:20230407T090825Z
UID:387-1680937200-1680967800@heartlandanglers.com
SUMMARY:Sat\, April 8
DESCRIPTION:$50 Entry Fee (90% payback)\n$10 Big fish (100% payback)
URL:https://heartlandanglers.com/event/sat-april-18/
LOCATION:Fort Loudon/Tellico\, Fort Loudon/Tellico\, tennessee
CATEGORIES:tennessee,tennessee division 5
ORGANIZER;CN="Freddie Walker":MAILTO:frederick.walker@siemens-healthineers.com
END:VEVENT
BEGIN:VEVENT
DTSTART;TZID=UTC:20230318T070000
DTEND;TZID=UTC:20230318T153000
DTSTAMP:20260423T230155
CREATED:20230303T095250Z
LAST-MODIFIED:20230405T154311Z
UID:381-1679122800-1679153400@heartlandanglers.com
SUMMARY:Sat\, March 18
DESCRIPTION:$50 Entry Fee (90% payback)\n$10 Big fish (100% payback)
URL:https://heartlandanglers.com/event/sat-march-18/
LOCATION:Fort Loudon/Tellico\, Fort Loudon/Tellico\, tennessee
CATEGORIES:tennessee,tennessee division 5
ORGANIZER;CN="Freddie Walker":MAILTO:frederick.walker@siemens-healthineers.com
END:VEVENT
BEGIN:VEVENT
DTSTART;TZID=UTC:20230304T070000
DTEND;TZID=UTC:20230304T153000
DTSTAMP:20260423T230155
CREATED:20230303T091431Z
LAST-MODIFIED:20230405T143007Z
UID:348-1677913200-1677943800@heartlandanglers.com
SUMMARY:Sat\, March 04
DESCRIPTION:
URL:https://heartlandanglers.com/event/sat-march-04/
LOCATION:Fort Loudon/Tellico\, Fort Loudon/Tellico\, tennessee
CATEGORIES:tennessee,tennessee division 5
ORGANIZER;CN="Freddie Walker":MAILTO:frederick.walker@siemens-healthineers.com
END:VEVENT
END:VCALENDAR