BEGIN:VCALENDAR
VERSION:2.0
PRODID:-//Heartland Anglers - ECPv6.8.3//NONSGML v1.0//EN
CALSCALE:GREGORIAN
METHOD:PUBLISH
X-WR-CALNAME:Heartland Anglers
X-ORIGINAL-URL:https://heartlandanglers.com
X-WR-CALDESC:Events for Heartland Anglers
REFRESH-INTERVAL;VALUE=DURATION:PT1H
X-Robots-Tag:noindex
X-PUBLISHED-TTL:PT1H
BEGIN:VTIMEZONE
TZID:UTC
BEGIN:STANDARD
TZOFFSETFROM:+0000
TZOFFSETTO:+0000
TZNAME:UTC
DTSTART:20250101T000000
END:STANDARD
END:VTIMEZONE
BEGIN:VEVENT
DTSTART;TZID=UTC:20250712T080000
DTEND;TZID=UTC:20250712T153000
DTSTAMP:20260424T105405
CREATED:20241217T010944Z
LAST-MODIFIED:20241217T010944Z
UID:2879-1752307200-1752334200@heartlandanglers.com
SUMMARY:Sat\, July 12
DESCRIPTION:Watts Bar Lake \nTom Fuller\nSafe light to 330 \nEntry fee $50 per team $10 Lunker Payouts 90% of Entry fees collected and 100% of Lunker\nMembership $35 per person \nMatt Hickey\n865 368 4231
URL:https://heartlandanglers.com/event/sat-july-12/
LOCATION:Watts Bar Lake\, Watts Bar Lake\, tennessee\, Tom Fuller - Rockwood
CATEGORIES:tennessee,Watts Bar - TN
END:VEVENT
END:VCALENDAR