BEGIN:VCALENDAR
VERSION:2.0
PRODID:-//Heartland Anglers - ECPv6.8.3//NONSGML v1.0//EN
CALSCALE:GREGORIAN
METHOD:PUBLISH
X-ORIGINAL-URL:https://heartlandanglers.com
X-WR-CALDESC:Events for Heartland Anglers
REFRESH-INTERVAL;VALUE=DURATION:PT1H
X-Robots-Tag:noindex
X-PUBLISHED-TTL:PT1H
BEGIN:VTIMEZONE
TZID:UTC
BEGIN:STANDARD
TZOFFSETFROM:+0000
TZOFFSETTO:+0000
TZNAME:UTC
DTSTART:20250101T000000
END:STANDARD
END:VTIMEZONE
BEGIN:VEVENT
DTSTART;TZID=UTC:20250802T080000
DTEND;TZID=UTC:20250802T153000
DTSTAMP:20260423T214351
CREATED:20241217T011036Z
LAST-MODIFIED:20241217T011036Z
UID:2881-1754121600-1754148600@heartlandanglers.com
SUMMARY:Sat\, Aug 02
DESCRIPTION:Watts Bar Lake \nTom Fuller\nSafe light to 330 \nEntry fee $50 per team $10 Lunker Payouts 90% of Entry fees collected and 100% of Lunker\nMembership $35 per person \nMatt Hickey\n865 368 4231
URL:https://heartlandanglers.com/event/sat-aug-2/
LOCATION:Watts Bar Lake\, Watts Bar Lake\, tennessee\, Tom Fuller - Rockwood
CATEGORIES:tennessee,Watts Bar - TN
END:VEVENT
BEGIN:VEVENT
DTSTART;TZID=UTC:20250712T080000
DTEND;TZID=UTC:20250712T153000
DTSTAMP:20260423T214351
CREATED:20241217T010944Z
LAST-MODIFIED:20241217T010944Z
UID:2879-1752307200-1752334200@heartlandanglers.com
SUMMARY:Sat\, July 12
DESCRIPTION:Watts Bar Lake \nTom Fuller\nSafe light to 330 \nEntry fee $50 per team $10 Lunker Payouts 90% of Entry fees collected and 100% of Lunker\nMembership $35 per person \nMatt Hickey\n865 368 4231
URL:https://heartlandanglers.com/event/sat-july-12/
LOCATION:Watts Bar Lake\, Watts Bar Lake\, tennessee\, Tom Fuller - Rockwood
CATEGORIES:tennessee,Watts Bar - TN
END:VEVENT
BEGIN:VEVENT
DTSTART;TZID=UTC:20250621T080000
DTEND;TZID=UTC:20250621T153000
DTSTAMP:20260423T214351
CREATED:20241217T010345Z
LAST-MODIFIED:20241217T010345Z
UID:2877-1750492800-1750519800@heartlandanglers.com
SUMMARY:Sat\, June 21
DESCRIPTION:Watts Bar Lake \nTom Fuller\nSafe light to 330 \nEntry fee $50 per team $10 Lunker Payouts 90% of Entry fees collected and 100% of Lunker\nMembership $35 per person \nMatt Hickey\n865 368 4231
URL:https://heartlandanglers.com/event/sat-june-21/
LOCATION:Watts Bar Lake\, Watts Bar Lake\, tennessee\, Tom Fuller - Rockwood
CATEGORIES:tennessee,Watts Bar - TN
END:VEVENT
BEGIN:VEVENT
DTSTART;TZID=UTC:20250524T080000
DTEND;TZID=UTC:20250524T153000
DTSTAMP:20260423T214351
CREATED:20241217T010247Z
LAST-MODIFIED:20241217T010259Z
UID:2874-1748073600-1748100600@heartlandanglers.com
SUMMARY:Sat\, May 24
DESCRIPTION:Watts Bar Lake \nTom Fuller\nSafe light to 330 \nEntry fee $50 per team $10 Lunker Payouts 90% of Entry fees collected and 100% of Lunker\nMembership $35 per person \nMatt Hickey\n865 368 4231
URL:https://heartlandanglers.com/event/sat-may-24/
LOCATION:Watts Bar Lake\, Watts Bar Lake\, tennessee\, Tom Fuller - Rockwood
CATEGORIES:tennessee,Watts Bar - TN
END:VEVENT
BEGIN:VEVENT
DTSTART;TZID=UTC:20250426T080000
DTEND;TZID=UTC:20250426T153000
DTSTAMP:20260423T214351
CREATED:20241217T010212Z
LAST-MODIFIED:20250303T123414Z
UID:2872-1745654400-1745681400@heartlandanglers.com
SUMMARY:Sat\, April 26
DESCRIPTION:Watts Bar Lake \nTom Fuller\nSafe light to 330 \nEntry fee $50 per team $10 Lunker Payouts 90% of Entry fees collected and 100% of Lunker\nMembership $35 per person \nMatt Hickey\n865 368 4231
URL:https://heartlandanglers.com/event/sat-april-26-3/
LOCATION:Watts Bar Lake\, Watts Bar Lake\, tennessee\, Tom Fuller - Rockwood
CATEGORIES:tennessee,Watts Bar - TN
END:VEVENT
BEGIN:VEVENT
DTSTART;TZID=UTC:20250412T080000
DTEND;TZID=UTC:20250412T153000
DTSTAMP:20260423T214351
CREATED:20241217T010100Z
LAST-MODIFIED:20241217T010100Z
UID:2870-1744444800-1744471800@heartlandanglers.com
SUMMARY:Sat\, April 12
DESCRIPTION:Watts Bar Lake \nTom Fuller\nSafe light to 330 \nEntry fee $50 per team $10 Lunker Payouts 90% of Entry fees collected and 100% of Lunker\nMembership $35 per person \nMatt Hickey\n865 368 4231
URL:https://heartlandanglers.com/event/sat-april-12/
LOCATION:Watts Bar Lake\, Watts Bar Lake\, tennessee\, Tom Fuller - Rockwood
CATEGORIES:tennessee,Watts Bar - TN
END:VEVENT
BEGIN:VEVENT
DTSTART;TZID=UTC:20250329T080000
DTEND;TZID=UTC:20250329T153000
DTSTAMP:20260423T214351
CREATED:20241217T010009Z
LAST-MODIFIED:20241217T010132Z
UID:2868-1743235200-1743262200@heartlandanglers.com
SUMMARY:Sat\, March 29
DESCRIPTION:Watts Bar Lake \nTom Fuller\nSafe light to 330 \nEntry fee $50 per team $10 Lunker Payouts 90% of Entry fees collected and 100% of Lunker\nMembership $35 per person \nMatt Hickey\n865 368 4231
URL:https://heartlandanglers.com/event/sat-march-29/
LOCATION:Watts Bar Lake\, Watts Bar Lake\, tennessee\, Tom Fuller - Rockwood
CATEGORIES:tennessee,Watts Bar - TN
END:VEVENT
BEGIN:VEVENT
DTSTART;TZID=UTC:20250315T080000
DTEND;TZID=UTC:20250315T153000
DTSTAMP:20260423T214351
CREATED:20241217T005519Z
LAST-MODIFIED:20241217T005519Z
UID:2863-1742025600-1742052600@heartlandanglers.com
SUMMARY:Sat\, March 15
DESCRIPTION:Watts Bar Lake \nTom Fuller\nSafe light to 330 \nEntry fee $50 per team $10 Lunker Payouts 90% of Entry fees collected and 100% of Lunker\nMembership $35 per person \nMatt Hickey\n865 368 4231
URL:https://heartlandanglers.com/event/sat-march-15/
LOCATION:Watts Bar Lake\, Watts Bar Lake\, tennessee\, Tom Fuller - Rockwood
CATEGORIES:tennessee,Watts Bar - TN
END:VEVENT
END:VCALENDAR