BEGIN:VCALENDAR
VERSION:2.0
PRODID:-//Heartland Anglers - ECPv6.8.3//NONSGML v1.0//EN
CALSCALE:GREGORIAN
METHOD:PUBLISH
X-ORIGINAL-URL:https://heartlandanglers.com
X-WR-CALDESC:Events for Heartland Anglers
REFRESH-INTERVAL;VALUE=DURATION:PT1H
X-Robots-Tag:noindex
X-PUBLISHED-TTL:PT1H
BEGIN:VTIMEZONE
TZID:UTC
BEGIN:STANDARD
TZOFFSETFROM:+0000
TZOFFSETTO:+0000
TZNAME:UTC
DTSTART:20250101T000000
END:STANDARD
END:VTIMEZONE
BEGIN:VEVENT
DTSTART;TZID=UTC:20260321T070000
DTEND;TZID=UTC:20260321T153000
DTSTAMP:20260423T175119
CREATED:20260119T173105Z
LAST-MODIFIED:20260119T173105Z
UID:3425-1774076400-1774107000@heartlandanglers.com
SUMMARY:Sat\, March 21
DESCRIPTION:Douglas Lake Dandridge Ramp\nMini Classic\nShady Grove\nSafe Light – 3:30PM\nEntry Fee: $50.00 (90%)\nLunker: $10.00 (100%)\nMembership: $35.00 Per Person
URL:https://heartlandanglers.com/event/sat-march-21/
LOCATION:Douglas Lake\, Douglas Lake\, tennessee\, Dandridge Public Ramp
CATEGORIES:tennessee,tennessee division 29
END:VEVENT
BEGIN:VEVENT
DTSTART;TZID=UTC:20260321T070000
DTEND;TZID=UTC:20260321T150000
DTSTAMP:20260423T175119
CREATED:20260205T142438Z
LAST-MODIFIED:20260205T142438Z
UID:3467-1774076400-1774105200@heartlandanglers.com
SUMMARY:Sat\, March 21
DESCRIPTION:Wilson (Fleet Harbor)\nEntry Fee: $50 Per Team\, $10 Lunker\nPayouts: 90% of Entry Fees collected and 100% of Lunker
URL:https://heartlandanglers.com/event/march-21-wilson/
LOCATION:Wilson Lake\, Wilson Lake\, alabama\, Safety Harbor
CATEGORIES:alabama,alabama division 5
END:VEVENT
BEGIN:VEVENT
DTSTART;TZID=UTC:20260315T070000
DTEND;TZID=UTC:20260315T150000
DTSTAMP:20260423T175119
CREATED:20260119T161711Z
LAST-MODIFIED:20260205T154210Z
UID:3388-1773558000-1773586800@heartlandanglers.com
SUMMARY:Sun\, March 15
DESCRIPTION:Lake Guntersville\nRamp: Waterfront \nMEMBERSHIP FEE WILL BE $35 PER PERSON \nENTRY FEE WILL BE $60.00 (90%) \nLunker: $20 (100%) \n$35 Membership fee \nGrant Williams\n256-348-5500
URL:https://heartlandanglers.com/event/sun-march-15-4/
LOCATION:Guntersville\, Guntersville\, alabama\, Waterfront
CATEGORIES:alabama,alabama division 3
END:VEVENT
BEGIN:VEVENT
DTSTART;TZID=UTC:20260314T070000
DTEND;TZID=UTC:20260314T153000
DTSTAMP:20260423T175119
CREATED:20260119T172957Z
LAST-MODIFIED:20260119T173012Z
UID:3423-1773471600-1773502200@heartlandanglers.com
SUMMARY:Sat\, March 14
DESCRIPTION:Douglas Lake Dandridge Ramp\nMini Classic\nShady Grove\nSafe Light – 3:30PM\nEntry Fee: $50.00 (90%)\nLunker: $10.00 (100%)\nMembership: $35.00 Per Person
URL:https://heartlandanglers.com/event/sat-march-14-2/
LOCATION:Douglas Lake\, Douglas Lake\, tennessee\, Dandridge Public Ramp
CATEGORIES:tennessee,tennessee division 29
END:VEVENT
BEGIN:VEVENT
DTSTART;TZID=UTC:20260314T070000
DTEND;TZID=UTC:20260314T150000
DTSTAMP:20260423T175119
CREATED:20260112T141448Z
LAST-MODIFIED:20260119T160505Z
UID:3369-1773471600-1773500400@heartlandanglers.com
SUMMARY:Sat\, March 14
DESCRIPTION:Kentucky Lake (Big Bear public ramp Gilbertsville)\nEntry $50.00\nLunker $10.00\nMembership $35.00
URL:https://heartlandanglers.com/event/sat-march-14/
LOCATION:Kentucky Lake\, Kentucky Lake\, kentucky\, Big Bear Public Boat Ramp (Gilbertsville)
CATEGORIES:kentucky,kentucky division 2
ORGANIZER;CN="James Cross":MAILTO:j.cross6957@yahoo.com
END:VEVENT
BEGIN:VEVENT
DTSTART;TZID=UTC:20260308T070000
DTEND;TZID=UTC:20260308T150000
DTSTAMP:20260423T175119
CREATED:20250312T123836Z
LAST-MODIFIED:20260205T154515Z
UID:3077-1772953200-1772982000@heartlandanglers.com
SUMMARY:Sun\, March 08
DESCRIPTION:Lake Guntersville\nRamp: Waterfront \nMEMBERSHIP FEE WILL BE $35 PER PERSON \nENTRY FEE WILL BE $60.00 (90%) \nLunker: $20 (100%) \n$35 Membership fee \nGrant Williams\n256-348-5500
URL:https://heartlandanglers.com/event/sun-march-08-3/
LOCATION:Guntersville\, Guntersville\, alabama\, Waterfront
CATEGORIES:alabama,alabama division 3
END:VEVENT
BEGIN:VEVENT
DTSTART;TZID=UTC:20260307T070000
DTEND;TZID=UTC:20260307T150000
DTSTAMP:20260423T175119
CREATED:20260119T163841Z
LAST-MODIFIED:20260119T163841Z
UID:3407-1772866800-1772895600@heartlandanglers.com
SUMMARY:Sat\, March 7
DESCRIPTION:Wheeler / Elk River (Lee High)\nEntry Fee: $50 Per Team\, $10 Lunker\nPayouts: 90% of Entry Fees collected and 100% of Lunker
URL:https://heartlandanglers.com/event/sat-march-7/
LOCATION:Wheeler / Elk River\, Wheeler / Elk River\, alabama\, Lee High
CATEGORIES:alabama,alabama division 1
ORGANIZER;CN="Larry Pierce":MAILTO:rfcrazy299065@yahoo.com
END:VEVENT
BEGIN:VEVENT
DTSTART;TZID=UTC:20260228T070000
DTEND;TZID=UTC:20260228T150000
DTSTAMP:20260423T175119
CREATED:20251124T162520Z
LAST-MODIFIED:20251128T133404Z
UID:3306-1772262000-1772290800@heartlandanglers.com
SUMMARY:Sat\, February 28
DESCRIPTION:TIM’S FORD  – DEVIL STEP \nMEMBERSHIP FEE WILL BE $35 PER PERSON \nENTRY FEE WILL BE $50.00 PER TEAM\nHEARTLAND ANGLERS MEMBERSHIP WILL BE $35.00 \nMUST FISH 4 OF THE ONE DIVISION or 6 IN ANY MULTIPLE DIVISIONS TO QUALIFY FOR THE  HARTLAND ANGLER CLASSIC FOR 2026 \nTim Wheelon \n931-205-4906
URL:https://heartlandanglers.com/event/sat-february-28/
LOCATION:Tim’s Ford Lake\, Tim's Ford Lake\, tennessee\, Devil Step
CATEGORIES:tennessee,tennessee division 22
END:VEVENT
BEGIN:VEVENT
DTSTART;TZID=UTC:20260221T070000
DTEND;TZID=UTC:20260221T153000
DTSTAMP:20260423T175119
CREATED:20250117T045012Z
LAST-MODIFIED:20260119T172840Z
UID:2972-1771657200-1771687800@heartlandanglers.com
SUMMARY:Sat\, February 21
DESCRIPTION:Douglas Lake Dandridge Ramp\nMini Classic\nShady Grove\nSafe Light – 3:30PM\nEntry Fee: $50.00 (90%)\nLunker: $10.00 (100%)\nMembership: $35.00 Per Person
URL:https://heartlandanglers.com/event/sat-february-21/
LOCATION:Douglas Lake\, Douglas Lake\, tennessee\, Dandridge Public Ramp
CATEGORIES:tennessee,tennessee division 29
END:VEVENT
BEGIN:VEVENT
DTSTART;TZID=UTC:20260221T070000
DTEND;TZID=UTC:20260221T150000
DTSTAMP:20260423T175119
CREATED:20260205T142716Z
LAST-MODIFIED:20260205T142919Z
UID:3473-1771657200-1771686000@heartlandanglers.com
SUMMARY:Sat\, February 21
DESCRIPTION:Pickwick (McFarland)\nEntry Fee: $50 Per Team\, $10 Lunker\nPayouts: 90% of Entry Fees collected and 100% of Lunker
URL:https://heartlandanglers.com/event/february-21-pw/
LOCATION:Pickwick\, Pickwick\, alabama\, McFarland
CATEGORIES:alabama,alabama division 6
END:VEVENT
BEGIN:VEVENT
DTSTART;TZID=UTC:20260221T070000
DTEND;TZID=UTC:20260221T150000
DTSTAMP:20260423T175119
CREATED:20251105T190649Z
LAST-MODIFIED:20251128T130559Z
UID:3205-1771657200-1771686000@heartlandanglers.com
SUMMARY:Sat\, February 21\, 2026
DESCRIPTION:Chickamauga Lake (Chester Frost) \nEntry Fee: $60 Per Team\, $10 Lunker\nBig Fish: $10\, Membership: $35 Per Person \nPayouts: 90% of Entry Fees collected and 100% of Lunker
URL:https://heartlandanglers.com/event/sat-february-21-2026/
LOCATION:Chickamauga Lake\, Chickamauga Lake\, Tennessee
CATEGORIES:tennessee,tennessee division 25
END:VEVENT
BEGIN:VEVENT
DTSTART;TZID=UTC:20260221T070000
DTEND;TZID=UTC:20260221T150000
DTSTAMP:20260423T175119
CREATED:20250117T052159Z
LAST-MODIFIED:20260119T163709Z
UID:3012-1771657200-1771686000@heartlandanglers.com
SUMMARY:Sat\, February 21
DESCRIPTION:Wheeler / Elk River (Lee High)\nEntry Fee: $50 Per Team\, $10 Lunker\nPayouts: 90% of Entry Fees collected and 100% of Lunker
URL:https://heartlandanglers.com/event/sat-feb-21/
LOCATION:Wheeler / Elk River\, Wheeler / Elk River\, alabama\, Lee High
CATEGORIES:alabama,alabama division 1
ORGANIZER;CN="Larry Pierce":MAILTO:rfcrazy299065@yahoo.com
END:VEVENT
BEGIN:VEVENT
DTSTART;TZID=UTC:20260207T070000
DTEND;TZID=UTC:20260207T150000
DTSTAMP:20260423T175119
CREATED:20251124T170707Z
LAST-MODIFIED:20251124T170817Z
UID:3323-1770447600-1770476400@heartlandanglers.com
SUMMARY:Sat\, February 7
DESCRIPTION:NICKAJACK MARION COUNTY  – BARTON SPRINGS \nMEMBERSHIP FEE WILL BE $35 PER PERSON \nENTRY FEE WILL BE $50.00 PER TEAM\nHEARTLAND ANGLERS MEMBERSHIP WILL BE $35.00 \nMUST FISH 4 OF THE ONE DIVISION or 6 IN ANY MULTIPLE DIVISIONS TO QUALIFY FOR THE  HARTLAND ANGLER CLASSIC FOR 2026 \nTim Wheelon \n931-205-4906
URL:https://heartlandanglers.com/event/sat-february-7/
LOCATION:Lake Hopper\, Lake Hopper\, tennessee
CATEGORIES:tennessee,tennessee division 03
END:VEVENT
BEGIN:VEVENT
DTSTART;TZID=UTC:20260207T070000
DTEND;TZID=UTC:20260207T150000
DTSTAMP:20260423T175119
CREATED:20251105T190555Z
LAST-MODIFIED:20251128T130733Z
UID:3203-1770447600-1770476400@heartlandanglers.com
SUMMARY:Sat\, February 07\, 2026
DESCRIPTION:Chickamauga Lake (Chester Frost) \nEntry Fee: $60 Per Team\, $10 Lunker\nBig Fish: $10\, Membership: $35 Per Person \nPayouts: 90% of Entry Fees collected and 100% of Lunker
URL:https://heartlandanglers.com/event/sat-february-07-2026/
LOCATION:Chickamauga Lake\, Chickamauga Lake\, Tennessee
CATEGORIES:tennessee,tennessee division 25
END:VEVENT
BEGIN:VEVENT
DTSTART;TZID=UTC:20260131T070000
DTEND;TZID=UTC:20260131T150000
DTSTAMP:20260423T175119
CREATED:20251124T162212Z
LAST-MODIFIED:20251128T133350Z
UID:3304-1769842800-1769871600@heartlandanglers.com
SUMMARY:Sat\, January 31
DESCRIPTION:TIM’S FORD  – DEVIL STEP \nMEMBERSHIP FEE WILL BE $35 PER PERSON \nENTRY FEE WILL BE $50.00 PER TEAM\nHEARTLAND ANGLERS MEMBERSHIP WILL BE $35.00 \nMUST FISH 4 OF THE ONE DIVISION or 6 IN ANY MULTIPLE DIVISIONS TO QUALIFY FOR THE  HARTLAND ANGLER CLASSIC FOR 2026 \nTim Wheelon \n931-205-4906
URL:https://heartlandanglers.com/event/sat-january-31/
LOCATION:Tim’s Ford Lake\, Tim's Ford Lake\, tennessee\, Devil Step
CATEGORIES:tennessee,tennessee division 22
END:VEVENT
BEGIN:VEVENT
DTSTART;TZID=UTC:20260131T070000
DTEND;TZID=UTC:20260131T150000
DTSTAMP:20260423T175119
CREATED:20251105T195604Z
LAST-MODIFIED:20251105T195604Z
UID:3251-1769842800-1769871600@heartlandanglers.com
SUMMARY:Sat\, January 31\, 2026
DESCRIPTION:Lake: Big Bear – Piney Point \nEntry Fee: $50 Per Team\, $10 Lunker\nBig Fish: $10\, Membership: $35 Per Person\nPayouts: 90% of Entry Fees collected and 100% of Lunker
URL:https://heartlandanglers.com/event/sat-january-31-2026/
LOCATION:Lake: Big Bear\, Lake: Big Bear\, Alabama
CATEGORIES:alabama,alabama division 10
END:VEVENT
BEGIN:VEVENT
DTSTART;TZID=UTC:20260117T070000
DTEND;TZID=UTC:20260117T150000
DTSTAMP:20260423T175119
CREATED:20251105T195424Z
LAST-MODIFIED:20251105T195424Z
UID:3249-1768633200-1768662000@heartlandanglers.com
SUMMARY:Sat\, January 17\, 2026
DESCRIPTION:Lake: Little Bear – Elliot’s Creek \nEntry Fee: $50 Per Team\, $10 Lunker\nBig Fish: $10\, Membership: $35 Per Person\nPayouts: 90% of Entry Fees collected and 100% of Lunker
URL:https://heartlandanglers.com/event/sat-january-17-2026-2/
LOCATION:Lake: Little Bear\, Lake: Little Bear\, Alabama
CATEGORIES:alabama,alabama division 10
END:VEVENT
BEGIN:VEVENT
DTSTART;TZID=UTC:20260117T070000
DTEND;TZID=UTC:20260117T150000
DTSTAMP:20260423T175119
CREATED:20251105T190430Z
LAST-MODIFIED:20251128T130740Z
UID:3201-1768633200-1768662000@heartlandanglers.com
SUMMARY:Sat\, January 17\, 2026
DESCRIPTION:Chickamauga Lake (Chester Frost) \nEntry Fee: $60 Per Team\, $10 Lunker\nBig Fish: $10\, Membership: $35 Per Person \nPayouts: 90% of Entry Fees collected and 100% of Lunker
URL:https://heartlandanglers.com/event/sat-january-17-2026/
LOCATION:Chickamauga Lake\, Chickamauga Lake\, Tennessee
CATEGORIES:tennessee,tennessee division 25
END:VEVENT
BEGIN:VEVENT
DTSTART;TZID=UTC:20260103T070000
DTEND;TZID=UTC:20260103T150000
DTSTAMP:20260423T175119
CREATED:20251105T195235Z
LAST-MODIFIED:20251105T195235Z
UID:3247-1767423600-1767452400@heartlandanglers.com
SUMMARY:Sat\, January 03\, 2026
DESCRIPTION:Lake: Upper Bear – Twin Forks \nEntry Fee: $50 Per Team\, $10 Lunker\nBig Fish: $10\, Membership: $35 Per Person\nPayouts: 90% of Entry Fees collected and 100% of Lunker
URL:https://heartlandanglers.com/event/sat-january-03-2026-2/
LOCATION:Lake Upper Bear\, Lake Upper Bear\, Alabama
CATEGORIES:alabama,alabama division 10
END:VEVENT
BEGIN:VEVENT
DTSTART;TZID=UTC:20260103T070000
DTEND;TZID=UTC:20260103T150000
DTSTAMP:20260423T175119
CREATED:20251105T190221Z
LAST-MODIFIED:20251128T130746Z
UID:3198-1767423600-1767452400@heartlandanglers.com
SUMMARY:Sat\, January 03\, 2026
DESCRIPTION:Chickamauga Lake (Chester Frost) \nEntry Fee: $60 Per Team\, $10 Lunker\nBig Fish: $10\, Membership: $35 Per Person \nPayouts: 90% of Entry Fees collected and 100% of Lunker
URL:https://heartlandanglers.com/event/sat-january-03-2026/
LOCATION:Chickamauga Lake\, Chickamauga Lake\, Tennessee
CATEGORIES:tennessee,tennessee division 25
END:VEVENT
BEGIN:VEVENT
DTSTART;TZID=UTC:20251220T070000
DTEND;TZID=UTC:20251220T150000
DTSTAMP:20260423T175119
CREATED:20251124T162033Z
LAST-MODIFIED:20251128T133422Z
UID:3301-1766214000-1766242800@heartlandanglers.com
SUMMARY:Sat\, December 20
DESCRIPTION:TIM’S FORD  – DEVIL STEP \nMEMBERSHIP FEE WILL BE $35 PER PERSON \nENTRY FEE WILL BE $50.00 PER TEAM\nHEARTLAND ANGLERS MEMBERSHIP WILL BE $35.00 \nMUST FISH 4 OF THE ONE DIVISION or 6 IN ANY MULTIPLE DIVISIONS TO QUALIFY FOR THE  HARTLAND ANGLER CLASSIC FOR 2025 \nTim Wheelon \n931-205-4906
URL:https://heartlandanglers.com/event/sat-december-20/
LOCATION:Tim’s Ford Lake\, Tim's Ford Lake\, tennessee\, Devil Step
CATEGORIES:tennessee,tennessee division 22
END:VEVENT
BEGIN:VEVENT
DTSTART;TZID=UTC:20251220T070000
DTEND;TZID=UTC:20251220T150000
DTSTAMP:20260423T175119
CREATED:20251105T194653Z
LAST-MODIFIED:20251105T194653Z
UID:3245-1766214000-1766242800@heartlandanglers.com
SUMMARY:Sat\, December 20\, 2025
DESCRIPTION:Lake: Cedar – Slick Road \nEntry Fee: $50 Per Team\, $10 Lunker\nBig Fish: $10\, Membership: $35 Per Person\nPayouts: 90% of Entry Fees collected and 100% of Lunker
URL:https://heartlandanglers.com/event/sat-december-20-2025/
LOCATION:Lake: Cedar\, Lake: Cedar\, Alabama
CATEGORIES:alabama,alabama division 10
END:VEVENT
BEGIN:VEVENT
DTSTART;TZID=UTC:20251213T070000
DTEND;TZID=UTC:20251213T150000
DTSTAMP:20260423T175119
CREATED:20251105T190029Z
LAST-MODIFIED:20251128T130847Z
UID:3196-1765609200-1765638000@heartlandanglers.com
SUMMARY:Sat\, December 13\, 2025
DESCRIPTION:Chickamauga Lake (Chester Frost) \nEntry Fee: $60 Per Team\, $10 Lunker\nBig Fish: $10\, Membership: $35 Per Person \nPayouts: 90% of Entry Fees collected and 100% of Lunker
URL:https://heartlandanglers.com/event/sat-december-13-2025/
LOCATION:Chickamauga Lake\, Chickamauga Lake\, Tennessee
CATEGORIES:tennessee,tennessee division 25
END:VEVENT
BEGIN:VEVENT
DTSTART;TZID=UTC:20251206T070000
DTEND;TZID=UTC:20251206T150000
DTSTAMP:20260423T175119
CREATED:20251124T170458Z
LAST-MODIFIED:20251128T133505Z
UID:3321-1765004400-1765033200@heartlandanglers.com
SUMMARY:Sat\, December 6
DESCRIPTION:NICKAJACK MARION COUNTY  – BARTON SPRINGS \nMEMBERSHIP FEE WILL BE $35 PER PERSON \nENTRY FEE WILL BE $50.00 PER TEAM\nHEARTLAND ANGLERS MEMBERSHIP WILL BE $35.00 \nMUST FISH 4 OF THE ONE DIVISION or 6 IN ANY MULTIPLE DIVISIONS TO QUALIFY FOR THE  HARTLAND ANGLER CLASSIC FOR 2025 \nTim Wheelon \n931-205-4906
URL:https://heartlandanglers.com/event/sat-december-6/
LOCATION:Lake Hopper\, Lake Hopper\, tennessee
CATEGORIES:tennessee,tennessee division 03
END:VEVENT
BEGIN:VEVENT
DTSTART;TZID=UTC:20251206T070000
DTEND;TZID=UTC:20251206T150000
DTSTAMP:20260423T175119
CREATED:20251105T194455Z
LAST-MODIFIED:20251105T194455Z
UID:3242-1765004400-1765033200@heartlandanglers.com
SUMMARY:Sat\, December 06\, 2025
DESCRIPTION:Lake: Little – Elliot’s Creek \nEntry Fee: $50 Per Team\, $10 Lunker\nBig Fish: $10\, Membership: $35 Per Person\nPayouts: 90% of Entry Fees collected and 100% of Lunker
URL:https://heartlandanglers.com/event/sat-december-06-2025/
LOCATION:Lake: Little Bear\, Lake: Little Bear\, Alabama
CATEGORIES:alabama,alabama division 10
END:VEVENT
BEGIN:VEVENT
DTSTART;TZID=UTC:20251129T070000
DTEND;TZID=UTC:20251129T150000
DTSTAMP:20260423T175119
CREATED:20251124T163903Z
LAST-MODIFIED:20251124T164259Z
UID:3310-1764399600-1764428400@heartlandanglers.com
SUMMARY:Sat\, November 29
DESCRIPTION:NORMANDY  – BARTON SPRINGS \nMEMBERSHIP FEE WILL BE $35 PER PERSON \nENTRY FEE WILL BE $50.00 PER TEAM\nHEARTLAND ANGLERS MEMBERSHIP WILL BE $35.00 \nMUST FISH 4 OF THE ONE DIVISION or 6 IN ANY MULTIPLE DIVISIONS TO QUALIFY FOR THE  HARTLAND ANGLER CLASSIC FOR 2025 \nTim Wheelon \n931-205-4906
URL:https://heartlandanglers.com/event/sat-november-29/
LOCATION:Lake Hopper\, Lake Hopper\, tennessee
CATEGORIES:tennessee,tennessee division 03
END:VEVENT
BEGIN:VEVENT
DTSTART;TZID=UTC:20251129T070000
DTEND;TZID=UTC:20251129T150000
DTSTAMP:20260423T175119
CREATED:20251105T182902Z
LAST-MODIFIED:20251128T130854Z
UID:3179-1764399600-1764428400@heartlandanglers.com
SUMMARY:Sat\, November 29\, 2025
DESCRIPTION:Chickamauga Lake (Chester Frost) \nEntry Fee: $60 Per Team\, $10 Lunker\nBig Fish: $10\, Membership: $35 Per Person \nPayouts: 90% of Entry Fees collected and 100% of Lunker
URL:https://heartlandanglers.com/event/sat-november-29-2025/
LOCATION:Chickamauga Lake\, Chickamauga Lake\, Tennessee
CATEGORIES:tennessee,tennessee division 25
END:VEVENT
BEGIN:VEVENT
DTSTART;TZID=UTC:20251122T070000
DTEND;TZID=UTC:20251122T150000
DTSTAMP:20260423T175119
CREATED:20251124T161823Z
LAST-MODIFIED:20251128T133430Z
UID:3299-1763794800-1763823600@heartlandanglers.com
SUMMARY:Sat\, November 22
DESCRIPTION:TIM’S FORD  – DEVIL STEP \nMEMBERSHIP FEE WILL BE $35 PER PERSON \nENTRY FEE WILL BE $50.00 PER TEAM\nHEARTLAND ANGLERS MEMBERSHIP WILL BE $35.00 \nMUST FISH 4 OF THE ONE DIVISION or 6 IN ANY MULTIPLE DIVISIONS TO QUALIFY FOR THE  HARTLAND ANGLER CLASSIC FOR 2025 \nTim Wheelon \n931-205-4906
URL:https://heartlandanglers.com/event/sat-november-22/
LOCATION:Tim’s Ford Lake\, Tim's Ford Lake\, tennessee\, Devil Step
CATEGORIES:tennessee,tennessee division 22
END:VEVENT
BEGIN:VEVENT
DTSTART;TZID=UTC:20251115T070000
DTEND;TZID=UTC:20251115T150000
DTSTAMP:20260423T175119
CREATED:20251124T161416Z
LAST-MODIFIED:20251128T133436Z
UID:3297-1763190000-1763218800@heartlandanglers.com
SUMMARY:Sat\, November 15
DESCRIPTION:TIM’S FORD  – DEVIL STEP \nMEMBERSHIP FEE WILL BE $35 PER PERSON \nENTRY FEE WILL BE $50.00 PER TEAM\nHEARTLAND ANGLERS MEMBERSHIP WILL BE $35.00 \nMUST FISH 4 OF THE ONE DIVISION or 6 IN ANY MULTIPLE DIVISIONS TO QUALIFY FOR THE  HARTLAND ANGLER CLASSIC FOR 2025 \nTim Wheelon \n931-205-4906
URL:https://heartlandanglers.com/event/sat-november-15/
LOCATION:Tim’s Ford Lake\, Tim's Ford Lake\, tennessee\, Devil Step
CATEGORIES:tennessee,tennessee division 22
END:VEVENT
BEGIN:VEVENT
DTSTART;TZID=UTC:20251101T070000
DTEND;TZID=UTC:20251101T150000
DTSTAMP:20260423T175120
CREATED:20251124T165302Z
LAST-MODIFIED:20251124T165423Z
UID:3316-1761980400-1762009200@heartlandanglers.com
SUMMARY:Sat\, November 1
DESCRIPTION:WOODS RES.  – MORRIS FERRY \nMEMBERSHIP FEE WILL BE $35 PER PERSON \nENTRY FEE WILL BE $50.00 PER TEAM\nHEARTLAND ANGLERS MEMBERSHIP WILL BE $35.00 \nMUST FISH 4 OF THE ONE DIVISION or 6 IN ANY MULTIPLE DIVISIONS TO QUALIFY FOR THE  HARTLAND ANGLER CLASSIC FOR 2025 \nTim Wheelon \n931-205-4906
URL:https://heartlandanglers.com/event/sat-november-1/
LOCATION:Lake Hopper\, Lake Hopper\, tennessee
CATEGORIES:tennessee,tennessee division 03
END:VEVENT
END:VCALENDAR