BEGIN:VCALENDAR
VERSION:2.0
PRODID:-//Heartland Anglers - ECPv6.8.3//NONSGML v1.0//EN
CALSCALE:GREGORIAN
METHOD:PUBLISH
X-WR-CALNAME:Heartland Anglers
X-ORIGINAL-URL:https://heartlandanglers.com
X-WR-CALDESC:Events for Heartland Anglers
REFRESH-INTERVAL;VALUE=DURATION:PT1H
X-Robots-Tag:noindex
X-PUBLISHED-TTL:PT1H
BEGIN:VTIMEZONE
TZID:UTC
BEGIN:STANDARD
TZOFFSETFROM:+0000
TZOFFSETTO:+0000
TZNAME:UTC
DTSTART:20250101T000000
END:STANDARD
END:VTIMEZONE
BEGIN:VEVENT
DTSTART;TZID=UTC:20250426T080000
DTEND;TZID=UTC:20250426T153000
DTSTAMP:20260424T001114
CREATED:20241217T010212Z
LAST-MODIFIED:20250303T123414Z
UID:2872-1745654400-1745681400@heartlandanglers.com
SUMMARY:Sat\, April 26
DESCRIPTION:Watts Bar Lake \nTom Fuller\nSafe light to 330 \nEntry fee $50 per team $10 Lunker Payouts 90% of Entry fees collected and 100% of Lunker\nMembership $35 per person \nMatt Hickey\n865 368 4231
URL:https://heartlandanglers.com/event/sat-april-26-3/
LOCATION:Watts Bar Lake\, Watts Bar Lake\, tennessee\, Tom Fuller - Rockwood
CATEGORIES:tennessee,Watts Bar - TN
END:VEVENT
BEGIN:VEVENT
DTSTART;TZID=UTC:20250426T070000
DTEND;TZID=UTC:20250426T150000
DTSTAMP:20260424T001114
CREATED:20250512T203741Z
LAST-MODIFIED:20250512T203741Z
UID:3157-1745650800-1745679600@heartlandanglers.com
SUMMARY:Sat\,  April 26
DESCRIPTION:Wilson (Safety Harbor)\nEntry Fee: $50 Per Team\, $10 Lunker\nPayouts: 90% of Entry Fees collected and 100% of Lunker
URL:https://heartlandanglers.com/event/sat-april-26-4/
LOCATION:Wilson Lake\, Wilson Lake\, alabama\, Safety Harbor
CATEGORIES:alabama,alabama division 5
END:VEVENT
BEGIN:VEVENT
DTSTART;TZID=UTC:20250426T070000
DTEND;TZID=UTC:20250426T150000
DTSTAMP:20260424T001114
CREATED:20250117T051839Z
LAST-MODIFIED:20250117T051839Z
UID:3004-1745650800-1745679600@heartlandanglers.com
SUMMARY:Sat\, April 26
DESCRIPTION:Wheeler / Elk River (Lee High)\nEntry Fee: $50 Per Team\, $10 Lunker\nPayouts: 90% of Entry Fees collected and 100% of Lunker
URL:https://heartlandanglers.com/event/sat-april-26-2/
LOCATION:Wheeler / Elk River\, Wheeler / Elk River\, alabama\, Lee High
CATEGORIES:alabama,alabama division 1
ORGANIZER;CN="Larry Pierce":MAILTO:rfcrazy299065@yahoo.com
END:VEVENT
BEGIN:VEVENT
DTSTART;TZID=UTC:20250426T070000
DTEND;TZID=UTC:20250426T150000
DTSTAMP:20260424T001114
CREATED:20250117T050507Z
LAST-MODIFIED:20250117T050507Z
UID:2988-1745650800-1745679600@heartlandanglers.com
SUMMARY:Sat\, April 26
DESCRIPTION:Kentucky Lake (Big Bear public ramp Gilbertsville)\nEntry $50.00\nLunker $10.00\nMembership $35.00
URL:https://heartlandanglers.com/event/sat-april-26/
LOCATION:Kentucky Lake\, Kentucky Lake\, kentucky\, Big Bear Public Boat Ramp (Gilbertsville)
CATEGORIES:kentucky,kentucky division 2
ORGANIZER;CN="James Cross":MAILTO:j.cross6957@yahoo.com
END:VEVENT
BEGIN:VEVENT
DTSTART;TZID=UTC:20250419T080000
DTEND;TZID=UTC:20250419T153000
DTSTAMP:20260424T001114
CREATED:20250303T144152Z
LAST-MODIFIED:20250303T144152Z
UID:3040-1745049600-1745076600@heartlandanglers.com
SUMMARY:Sat\, April 19
DESCRIPTION:Loudon Canal \nSafe light to 3:30 \nEntry fee $50 per team $10 Lunker Payouts 90% of Entry fees collected and 100% of Lunker\nMembership $35 per person \nEddie Leab \n865-406-7906
URL:https://heartlandanglers.com/event/sat-april-19-4/
LOCATION:Fort Loudon/Tellico\, Fort Loudon/Tellico\, tennessee
CATEGORIES:tennessee,tennessee division 5
END:VEVENT
BEGIN:VEVENT
DTSTART;TZID=UTC:20250419T070000
DTEND;TZID=UTC:20250419T153000
DTSTAMP:20260424T001114
CREATED:20250117T045607Z
LAST-MODIFIED:20250117T045607Z
UID:2978-1745046000-1745076600@heartlandanglers.com
SUMMARY:Sat\, April 19
DESCRIPTION:Douglas Lake Dandridge Ramp\nMini Classic\nShady Grove\nSafe Light – 3:30PM\nEntry Fee: $50.00 (90%)\nLunker: $10.00 (100%)\nMembership: $35.00 Per Person
URL:https://heartlandanglers.com/event/sat-april-19-3/
LOCATION:Douglas Lake\, Douglas Lake\, tennessee\, Dandridge Public Ramp
CATEGORIES:tennessee,tennessee division 29
END:VEVENT
BEGIN:VEVENT
DTSTART;TZID=UTC:20250419T060000
DTEND;TZID=UTC:20250419T140000
DTSTAMP:20260424T001114
CREATED:20250117T044213Z
LAST-MODIFIED:20250117T044213Z
UID:2966-1745042400-1745071200@heartlandanglers.com
SUMMARY:Sat\, April 19
DESCRIPTION:TIM’S FORD DEVIL STEP \nMEMBERSHIP FEE WILL BE $35 PER PERSON \nENTRY FEE WILL BE $50.00 PER TEAM\nHEARTLAND ANGLERS MEMBERSHIP WILL BE $35.00 \nMUST FISH 4 OF THE ONE DIVISION or 6 IN ANY MULTIPLE DIVISIONS TO QUALIFY FOR THE  HARTLAND ANGLER CLASSIC FOR 2024 \nTim Wheelon \n931-205-4906
URL:https://heartlandanglers.com/event/sat-april-19-2/
LOCATION:Tim’s Ford Lake\, Tim's Ford Lake\, tennessee\, Devil Step
CATEGORIES:tennessee,tennessee division 22
END:VEVENT
BEGIN:VEVENT
DTSTART;TZID=UTC:20250419T060000
DTEND;TZID=UTC:20250419T140000
DTSTAMP:20260424T001114
CREATED:20250117T043526Z
LAST-MODIFIED:20250117T043526Z
UID:2959-1745042400-1745071200@heartlandanglers.com
SUMMARY:Sat\, April 19
DESCRIPTION:Lake Hopper \nMEMBERSHIP FEE WILL BE $35 PER PERSON \nENTRY FEE WILL BE $50.00 PER TEAM\nHEARTLAND ANGLERS MEMBERSHIP WILL BE $35.00 \nTim Wheelon \n931-205-4906
URL:https://heartlandanglers.com/event/sat-april-19/
LOCATION:Lake Hopper\, Lake Hopper\, tennessee
CATEGORIES:tennessee,tennessee division 03
END:VEVENT
BEGIN:VEVENT
DTSTART;TZID=UTC:20250412T080000
DTEND;TZID=UTC:20250412T153000
DTSTAMP:20260424T001114
CREATED:20250303T144106Z
LAST-MODIFIED:20250303T144106Z
UID:3038-1744444800-1744471800@heartlandanglers.com
SUMMARY:Sat\, April 12
DESCRIPTION:Loudon Canal \nSafe light to 3:30 \nEntry fee $50 per team $10 Lunker Payouts 90% of Entry fees collected and 100% of Lunker\nMembership $35 per person \nEddie Leab \n865-406-7906
URL:https://heartlandanglers.com/event/sat-april-12-4/
LOCATION:Fort Loudon/Tellico\, Fort Loudon/Tellico\, tennessee
CATEGORIES:tennessee,tennessee division 5
END:VEVENT
BEGIN:VEVENT
DTSTART;TZID=UTC:20250412T080000
DTEND;TZID=UTC:20250412T153000
DTSTAMP:20260424T001114
CREATED:20241217T010100Z
LAST-MODIFIED:20241217T010100Z
UID:2870-1744444800-1744471800@heartlandanglers.com
SUMMARY:Sat\, April 12
DESCRIPTION:Watts Bar Lake \nTom Fuller\nSafe light to 330 \nEntry fee $50 per team $10 Lunker Payouts 90% of Entry fees collected and 100% of Lunker\nMembership $35 per person \nMatt Hickey\n865 368 4231
URL:https://heartlandanglers.com/event/sat-april-12/
LOCATION:Watts Bar Lake\, Watts Bar Lake\, tennessee\, Tom Fuller - Rockwood
CATEGORIES:tennessee,Watts Bar - TN
END:VEVENT
BEGIN:VEVENT
DTSTART;TZID=UTC:20250412T070000
DTEND;TZID=UTC:20250412T150000
DTSTAMP:20260424T001114
CREATED:20250512T204627Z
LAST-MODIFIED:20250512T204627Z
UID:3167-1744441200-1744470000@heartlandanglers.com
SUMMARY:Sat\,  April 12
DESCRIPTION:Pickwick (McFarland)\nEntry Fee: $50 Per Team\, $10 Lunker\nPayouts: 90% of Entry Fees collected and 100% of Lunker
URL:https://heartlandanglers.com/event/sat-april-12-5/
LOCATION:Pickwick\, Pickwick\, alabama\, McFarland
CATEGORIES:alabama,alabama division 6
END:VEVENT
BEGIN:VEVENT
DTSTART;TZID=UTC:20250412T070000
DTEND;TZID=UTC:20250412T150000
DTSTAMP:20260424T001114
CREATED:20250117T051752Z
LAST-MODIFIED:20250117T051752Z
UID:3002-1744441200-1744470000@heartlandanglers.com
SUMMARY:Sat\, April 12
DESCRIPTION:Wheeler / Elk River (Lee High)\nEntry Fee: $50 Per Team\, $10 Lunker\nPayouts: 90% of Entry Fees collected and 100% of Lunker
URL:https://heartlandanglers.com/event/sat-april-12-3/
LOCATION:Wheeler / Elk River\, Wheeler / Elk River\, alabama\, Lee High
CATEGORIES:alabama,alabama division 1
ORGANIZER;CN="Larry Pierce":MAILTO:rfcrazy299065@yahoo.com
END:VEVENT
BEGIN:VEVENT
DTSTART;TZID=UTC:20250412T070000
DTEND;TZID=UTC:20250412T150000
DTSTAMP:20260424T001114
CREATED:20250117T050357Z
LAST-MODIFIED:20250117T050357Z
UID:2986-1744441200-1744470000@heartlandanglers.com
SUMMARY:Sat\, April 12
DESCRIPTION:Kentucky Lake (Big Bear public ramp Gilbertsville)\nEntry $50.00\nLunker $10.00\nMembership $35.00
URL:https://heartlandanglers.com/event/sat-april-12-2/
LOCATION:Kentucky Lake\, Kentucky Lake\, kentucky\, Big Bear Public Boat Ramp (Gilbertsville)
CATEGORIES:kentucky,kentucky division 2
ORGANIZER;CN="James Cross":MAILTO:j.cross6957@yahoo.com
END:VEVENT
BEGIN:VEVENT
DTSTART;TZID=UTC:20250330T060000
DTEND;TZID=UTC:20250330T140000
DTSTAMP:20260424T001114
CREATED:20250117T043236Z
LAST-MODIFIED:20250117T043236Z
UID:2957-1743314400-1743343200@heartlandanglers.com
SUMMARY:Sat\, March 30
DESCRIPTION:Lake Hopper \nMEMBERSHIP FEE WILL BE $35 PER PERSON \nENTRY FEE WILL BE $50.00 PER TEAM\nHEARTLAND ANGLERS MEMBERSHIP WILL BE $35.00 \nTim Wheelon \n931-205-4906
URL:https://heartlandanglers.com/event/sat-march-30-3/
LOCATION:Lake Hopper\, Lake Hopper\, tennessee
CATEGORIES:tennessee,tennessee division 03
END:VEVENT
BEGIN:VEVENT
DTSTART;TZID=UTC:20250329T080000
DTEND;TZID=UTC:20250329T153000
DTSTAMP:20260424T001114
CREATED:20241217T010009Z
LAST-MODIFIED:20241217T010132Z
UID:2868-1743235200-1743262200@heartlandanglers.com
SUMMARY:Sat\, March 29
DESCRIPTION:Watts Bar Lake \nTom Fuller\nSafe light to 330 \nEntry fee $50 per team $10 Lunker Payouts 90% of Entry fees collected and 100% of Lunker\nMembership $35 per person \nMatt Hickey\n865 368 4231
URL:https://heartlandanglers.com/event/sat-march-29/
LOCATION:Watts Bar Lake\, Watts Bar Lake\, tennessee\, Tom Fuller - Rockwood
CATEGORIES:tennessee,Watts Bar - TN
END:VEVENT
BEGIN:VEVENT
DTSTART;TZID=UTC:20250329T070000
DTEND;TZID=UTC:20250329T150000
DTSTAMP:20260424T001114
CREATED:20250512T204434Z
LAST-MODIFIED:20250512T204434Z
UID:3161-1743231600-1743260400@heartlandanglers.com
SUMMARY:Sat\, March 29
DESCRIPTION:Pickwick (McFarland)\nEntry Fee: $50 Per Team\, $10 Lunker\nPayouts: 90% of Entry Fees collected and 100% of Lunker
URL:https://heartlandanglers.com/event/sat-march-29-4/
LOCATION:Pickwick\, Pickwick\, alabama\, McFarland
CATEGORIES:alabama,alabama division 6
END:VEVENT
BEGIN:VEVENT
DTSTART;TZID=UTC:20250329T070000
DTEND;TZID=UTC:20250329T150000
DTSTAMP:20260424T001114
CREATED:20250117T051656Z
LAST-MODIFIED:20250117T051656Z
UID:3000-1743231600-1743260400@heartlandanglers.com
SUMMARY:Sat\, March 29
DESCRIPTION:Wheeler / Elk River (Lee High)\nEntry Fee: $50 Per Team\, $10 Lunker\nPayouts: 90% of Entry Fees collected and 100% of Lunker
URL:https://heartlandanglers.com/event/sat-march-29-3/
LOCATION:Wheeler / Elk River\, Wheeler / Elk River\, alabama\, Lee High
CATEGORIES:alabama,alabama division 1
ORGANIZER;CN="Larry Pierce":MAILTO:rfcrazy299065@yahoo.com
END:VEVENT
BEGIN:VEVENT
DTSTART;TZID=UTC:20250329T070000
DTEND;TZID=UTC:20250329T150000
DTSTAMP:20260424T001114
CREATED:20250117T050157Z
LAST-MODIFIED:20250117T050305Z
UID:2984-1743231600-1743260400@heartlandanglers.com
SUMMARY:Sat\, March 29
DESCRIPTION:Kentucky Lake (Big Bear public ramp Gilbertsville)\nEntry $50.00\nLunker $10.00\nMembership $35.00
URL:https://heartlandanglers.com/event/sat-march-29-2/
LOCATION:Kentucky Lake\, Kentucky Lake\, kentucky\, Big Bear Public Boat Ramp (Gilbertsville)
CATEGORIES:kentucky,kentucky division 2
ORGANIZER;CN="James Cross":MAILTO:j.cross6957@yahoo.com
END:VEVENT
BEGIN:VEVENT
DTSTART;TZID=UTC:20250323T060000
DTEND;TZID=UTC:20250323T140000
DTSTAMP:20260424T001114
CREATED:20250117T043119Z
LAST-MODIFIED:20250117T043119Z
UID:2955-1742709600-1742738400@heartlandanglers.com
SUMMARY:Sat\, March 23
DESCRIPTION:Lake Hopper \nMEMBERSHIP FEE WILL BE $35 PER PERSON \nENTRY FEE WILL BE $50.00 PER TEAM\nHEARTLAND ANGLERS MEMBERSHIP WILL BE $35.00 \nTim Wheelon \n931-205-4906
URL:https://heartlandanglers.com/event/sat-march-23-4/
LOCATION:Lake Hopper\, Lake Hopper\, tennessee
CATEGORIES:tennessee,tennessee division 03
END:VEVENT
BEGIN:VEVENT
DTSTART;TZID=UTC:20250322T080000
DTEND;TZID=UTC:20250322T153000
DTSTAMP:20260424T001114
CREATED:20250303T143848Z
LAST-MODIFIED:20250303T143904Z
UID:3034-1742630400-1742657400@heartlandanglers.com
SUMMARY:Sat\, March 22
DESCRIPTION:Loudon Canal \nSafe light to 3:30 \nEntry fee $50 per team $10 Lunker Payouts 90% of Entry fees collected and 100% of Lunker\nMembership $35 per person \nEddie Leab \n865-406-7906
URL:https://heartlandanglers.com/event/sat-march-22/
LOCATION:Fort Loudon/Tellico\, Fort Loudon/Tellico\, tennessee
CATEGORIES:tennessee,tennessee division 5
END:VEVENT
BEGIN:VEVENT
DTSTART;TZID=UTC:20250322T070000
DTEND;TZID=UTC:20250322T150000
DTSTAMP:20260424T001114
CREATED:20250512T195510Z
LAST-MODIFIED:20250512T203200Z
UID:3139-1742626800-1742655600@heartlandanglers.com
SUMMARY:Sat\, March 22
DESCRIPTION:Wilson (Safety Harbor)\nEntry Fee: $50 Per Team\, $10 Lunker\nPayouts: 90% of Entry Fees collected and 100% of Lunker
URL:https://heartlandanglers.com/event/sat-march-22-2/
LOCATION:Wilson Lake\, Wilson Lake\, alabama\, Safety Harbor
CATEGORIES:alabama,alabama division 5
END:VEVENT
BEGIN:VEVENT
DTSTART;TZID=UTC:20250315T080000
DTEND;TZID=UTC:20250315T153000
DTSTAMP:20260424T001114
CREATED:20241217T005519Z
LAST-MODIFIED:20241217T005519Z
UID:2863-1742025600-1742052600@heartlandanglers.com
SUMMARY:Sat\, March 15
DESCRIPTION:Watts Bar Lake \nTom Fuller\nSafe light to 330 \nEntry fee $50 per team $10 Lunker Payouts 90% of Entry fees collected and 100% of Lunker\nMembership $35 per person \nMatt Hickey\n865 368 4231
URL:https://heartlandanglers.com/event/sat-march-15/
LOCATION:Watts Bar Lake\, Watts Bar Lake\, tennessee\, Tom Fuller - Rockwood
CATEGORIES:tennessee,Watts Bar - TN
END:VEVENT
BEGIN:VEVENT
DTSTART;TZID=UTC:20250315T070000
DTEND;TZID=UTC:20250315T153000
DTSTAMP:20260424T001114
CREATED:20250117T045510Z
LAST-MODIFIED:20250117T045510Z
UID:2976-1742022000-1742052600@heartlandanglers.com
SUMMARY:Sat\, March 15
DESCRIPTION:Douglas Lake Dandridge Ramp\nMini Classic\nShady Grove\nSafe Light – 3:30PM\nEntry Fee: $50.00 (90%)\nLunker: $10.00 (100%)\nMembership: $35.00 Per Person
URL:https://heartlandanglers.com/event/sat-march-15-2/
LOCATION:Douglas Lake\, Douglas Lake\, tennessee\, Dandridge Public Ramp
CATEGORIES:tennessee,tennessee division 29
END:VEVENT
BEGIN:VEVENT
DTSTART;TZID=UTC:20250315T070000
DTEND;TZID=UTC:20250315T150000
DTSTAMP:20260424T001114
CREATED:20250117T051558Z
LAST-MODIFIED:20250117T051558Z
UID:2998-1742022000-1742050800@heartlandanglers.com
SUMMARY:Sat\, March 15
DESCRIPTION:Wheeler / Elk River (Lee High)\nEntry Fee: $50 Per Team\, $10 Lunker\nPayouts: 90% of Entry Fees collected and 100% of Lunker
URL:https://heartlandanglers.com/event/sat-march-15-3/
LOCATION:Wheeler / Elk River\, Wheeler / Elk River\, alabama\, Lee High
CATEGORIES:alabama,alabama division 1
ORGANIZER;CN="Larry Pierce":MAILTO:rfcrazy299065@yahoo.com
END:VEVENT
BEGIN:VEVENT
DTSTART;TZID=UTC:20250308T070000
DTEND;TZID=UTC:20250308T153000
DTSTAMP:20260424T001114
CREATED:20250117T045347Z
LAST-MODIFIED:20250117T045439Z
UID:2974-1741417200-1741447800@heartlandanglers.com
SUMMARY:Sat\, March 08
DESCRIPTION:Douglas Lake Dandridge Ramp\nMini Classic\nShady Grove\nSafe Light – 3:30PM\nEntry Fee: $50.00 (90%)\nLunker: $10.00 (100%)\nMembership: $35.00 Per Person
URL:https://heartlandanglers.com/event/sat-march-08-2/
LOCATION:Douglas Lake\, Douglas Lake\, tennessee\, Dandridge Public Ramp
CATEGORIES:tennessee,tennessee division 29
END:VEVENT
BEGIN:VEVENT
DTSTART;TZID=UTC:20250308T060000
DTEND;TZID=UTC:20250308T140000
DTSTAMP:20260424T001114
CREATED:20250117T044058Z
LAST-MODIFIED:20250117T044058Z
UID:2963-1741413600-1741442400@heartlandanglers.com
SUMMARY:Sat\, March 08
DESCRIPTION:TIM’S FORD DEVIL STEP \nMEMBERSHIP FEE WILL BE $35 PER PERSON \nENTRY FEE WILL BE $50.00 PER TEAM\nHEARTLAND ANGLERS MEMBERSHIP WILL BE $35.00 \nMUST FISH 4 OF THE ONE DIVISION or 6 IN ANY MULTIPLE DIVISIONS TO QUALIFY FOR THE  HARTLAND ANGLER CLASSIC FOR 2024 \nTim Wheelon \n931-205-4906
URL:https://heartlandanglers.com/event/sat-march-08/
LOCATION:Tim’s Ford Lake\, Tim's Ford Lake\, tennessee\, Devil Step
CATEGORIES:tennessee,tennessee division 22
END:VEVENT
BEGIN:VEVENT
DTSTART;TZID=UTC:20250222T070000
DTEND;TZID=UTC:20250222T150000
DTSTAMP:20260424T001114
CREATED:20250117T053103Z
LAST-MODIFIED:20250117T053103Z
UID:3018-1740207600-1740236400@heartlandanglers.com
SUMMARY:Sat\, February 22
DESCRIPTION:Lake: Big Bear (Piney Point) \nEntry Fee: $50 Per Team\, $10 Lunker \nPayouts: 90% of Entry Fees collected and 100% of Lunker
URL:https://heartlandanglers.com/event/sat-february-22-2/
LOCATION:Lake: Big Bear\, Lake: Big Bear\, Alabama
CATEGORIES:alabama,alabama division 10
END:VEVENT
BEGIN:VEVENT
DTSTART;TZID=UTC:20250215T070000
DTEND;TZID=UTC:20250215T153000
DTSTAMP:20260424T001114
CREATED:20250117T044826Z
LAST-MODIFIED:20250117T044826Z
UID:2970-1739602800-1739633400@heartlandanglers.com
SUMMARY:Sat\, February 15
DESCRIPTION:Douglas Lake Dandridge Ramp\nMini Classic\nShady Grove\nSafe Light – 3:30PM\nEntry Fee: $50.00 (90%)\nLunker: $10.00 (100%)\nMembership: $35.00 Per Person
URL:https://heartlandanglers.com/event/sat-february-15/
LOCATION:Douglas Lake\, Douglas Lake\, tennessee\, Dandridge Public Ramp
CATEGORIES:tennessee,tennessee division 29
END:VEVENT
BEGIN:VEVENT
DTSTART;TZID=UTC:20250208T060000
DTEND;TZID=UTC:20250208T140000
DTSTAMP:20260424T001114
CREATED:20250117T042435Z
LAST-MODIFIED:20250117T042911Z
UID:2952-1738994400-1739023200@heartlandanglers.com
SUMMARY:Sat\, February 8
DESCRIPTION:Lake Hopper \nMEMBERSHIP FEE WILL BE $35 PER PERSON \nENTRY FEE WILL BE $50.00 PER TEAM\nHEARTLAND ANGLERS MEMBERSHIP WILL BE $35.00 \nTim Wheelon \n931-205-4906
URL:https://heartlandanglers.com/event/sat-february-8/
LOCATION:Lake Hopper\, Lake Hopper\, tennessee
CATEGORIES:tennessee,tennessee division 03
END:VEVENT
BEGIN:VEVENT
DTSTART;TZID=UTC:20250201T070000
DTEND;TZID=UTC:20250201T150000
DTSTAMP:20260424T001114
CREATED:20241105T183345Z
LAST-MODIFIED:20241105T183418Z
UID:2838-1738393200-1738422000@heartlandanglers.com
SUMMARY:Sat\, February 01
DESCRIPTION:Chickamauga Lake (Harrison Bay) \nEntry Fee: $50 Per Team\, $10 Lunker \nPayouts: 90% of Entry Fees collected and 100% of Lunker
URL:https://heartlandanglers.com/event/sat-february-03-2/
LOCATION:Chickamauga Lake\, Chickamauga Lake\, Tennessee
CATEGORIES:tennessee,tennessee division 25
END:VEVENT
END:VCALENDAR